BEGIN:VCALENDAR
VERSION:2.0
PRODID:-//Konsertti- ja kongressitalo Mikaeli - Suomen kiinnostavin tapahtumatalo - ECPv6.10.1.1//NONSGML v1.0//EN
CALSCALE:GREGORIAN
METHOD:PUBLISH
X-WR-CALNAME:Konsertti- ja kongressitalo Mikaeli - Suomen kiinnostavin tapahtumatalo
X-ORIGINAL-URL:https://mikaeli.fi
X-WR-CALDESC:Events for Konsertti- ja kongressitalo Mikaeli - Suomen kiinnostavin tapahtumatalo
REFRESH-INTERVAL;VALUE=DURATION:PT1H
X-Robots-Tag:noindex
X-PUBLISHED-TTL:PT1H
BEGIN:VTIMEZONE
TZID:Europe/Helsinki
BEGIN:DAYLIGHT
TZOFFSETFROM:+0200
TZOFFSETTO:+0300
TZNAME:EEST
DTSTART:20210328T010000
END:DAYLIGHT
BEGIN:STANDARD
TZOFFSETFROM:+0300
TZOFFSETTO:+0200
TZNAME:EET
DTSTART:20211031T010000
END:STANDARD
END:VTIMEZONE
BEGIN:VEVENT
DTSTART;TZID=Europe/Helsinki:20210916T190000
DTEND;TZID=Europe/Helsinki:20210916T190000
DTSTAMP:20260425T181303
CREATED:20210820T132657Z
LAST-MODIFIED:20211015T134002Z
UID:916-1631818800-1631818800@mikaeli.fi
SUMMARY:JOUSISINFONIA
DESCRIPTION:Emilia Hoving\, kapellimestari\nJohannes Piirto\, piano\nYhteistyössä Savonlinnan orkesterin kanssa \nSavonlinna-kvartetin ja Mikkelin kaupunginorkesterin yhteistyökonserttia saapuu johtamaan kiitetty ja Kritiikin kannuksilla palkittu kapellimestarilupaus Emilia Hoving. Solistina soittaa aiemminkin Klami-solistina esiintynyt Johannes Piirto. Ohjelmassa on Uuno Klamin harvoin kuultu Pianokonsertto nro 2. Teos vietti hiljattain 70-vuotispäiviään\, Uuno Klami taas 120-vuotispäiviään\, joten unohduksiin painuneen teoksen soidessa kelpaa juhlia. Virolaisen\, maansa lyhytaikaisena kulttuuriministerinäkin tunnetun Lepo Sumeran Musica profana soi vahvaa\, kolkkojen kaikujen ja voimakkaan rytmisen poljennon tunnelmaa ja kuvia. Päätösnumerona riemastuttaa Mendelssohnin jousiorkesterille kirjoittamista sinfonioista nro 8. Tämän lapsineron 13-vuotiaana kirjoittama teos soi reipasta ja ulkoilmahenkistä tunnelmaa\, mutta on jo vahva näyte kypsästä säveltäjän käsityötaidosta. \nLepo Sumera: Musica profana\nUuno Klami: Konsertto pianolle ja jousiorkesterille nro 2 op. 41\nFelix Mendelssohn: Sinfonia nro 8 D-duuri \nLIPUT: 24\,50 € / 22\,50 € / 8 €\nLipunmyynnistä vastaa orkesterin toimisto\, yhteystiedot löydät täältä. \nJärj. Mikkelin kaupunginorkesteri
URL:https://mikaeli.fi/event/jousisinfonia/
CATEGORIES:Musiikki
END:VEVENT
END:VCALENDAR