BEGIN:VCALENDAR
VERSION:2.0
PRODID:-//Konsertti- ja kongressitalo Mikaeli - Suomen kiinnostavin tapahtumatalo - ECPv6.10.1.1//NONSGML v1.0//EN
CALSCALE:GREGORIAN
METHOD:PUBLISH
X-ORIGINAL-URL:https://mikaeli.fi
X-WR-CALDESC:Events for Konsertti- ja kongressitalo Mikaeli - Suomen kiinnostavin tapahtumatalo
REFRESH-INTERVAL;VALUE=DURATION:PT1H
X-Robots-Tag:noindex
X-PUBLISHED-TTL:PT1H
BEGIN:VTIMEZONE
TZID:Europe/Helsinki
BEGIN:DAYLIGHT
TZOFFSETFROM:+0200
TZOFFSETTO:+0300
TZNAME:EEST
DTSTART:20210328T010000
END:DAYLIGHT
BEGIN:STANDARD
TZOFFSETFROM:+0300
TZOFFSETTO:+0200
TZNAME:EET
DTSTART:20211031T010000
END:STANDARD
END:VTIMEZONE
BEGIN:VEVENT
DTSTART;TZID=Europe/Helsinki:20211017T190000
DTEND;TZID=Europe/Helsinki:20211017T190000
DTSTAMP:20260425T163118
CREATED:20210621T104003Z
LAST-MODIFIED:20210806T125221Z
UID:352-1634497200-1634497200@mikaeli.fi
SUMMARY:Sonata Arctica
DESCRIPTION:Tapahtuma on siirretty\, edellinen ajankohta 19.2.2021. Jo ostetut liput käyvät sellaisenaan uuteen ajankohtaan. \nSonata Arctica täyttää 25 vuotta \nYksi Suomen kautta aikain menestyneimmistä metalliyhtyeistä\, kemiläinen Sonata Arctica\, täyttää ensi vuonna kunnioitettavat 25 vuotta. Neljännesvuosisadan mittaista matkaa päästään juhlimaan kotimaassa 12 kaupungin verran helmi-maaliskuussa. Kiertue alkaa Jyväskylän Lutakosta 18. helmikuuta ja matkaa läpi Suomen päättyen Espoon Kulttuurikeskukseen 26. maaliskuuta. \n”Ensimmäiset 25 vuotta on ollut huikea matka Sonata Arcticalle. Tässä sitä vielä ollaan kaikenlaisten seikkailujen jälkeen. Kunhan vuosi vaihtuu\, kaikki vuoden 2021 keikat vedetään 25th anniversary tour -nimikkeen alla\, ja keikoilla kuullaan läpileikkaus yhtyeen koko tähänastisesta tuotannosta”\, bändi kertoo. \nSonata Arctica räjäytti pankin heti Ecliptica-esikoisalbumillaan vuonna 1999\, ja sittemmin meno on ollut melkoista. Kymmenen studioalbumin\, lukemattomien kiertueiden ja jättimäisten festivaalikeikkojen jälkeen keskiössä on edelleen melodinen metalli\, ja yhtye aikoo jatkaa samalla linjalla. Sonata Arctican edellinen Talviyö-albumi julkaistiin vuonna 2019. \nMartti Talvela -sali \nEnnakkolippu 40\,00 € (sis. käsittelykulun)\nOvelta 45\,00 € (sis. käsittelykulun) \nKonsertti on ikärajaton. \nJärj. Grey Beard Concerts & Management
URL:https://mikaeli.fi/event/sonata-arctica-siirretty-kevaalta-2021/
CATEGORIES:Musiikki,Tapahtuma
END:VEVENT
END:VCALENDAR