BEGIN:VCALENDAR
VERSION:2.0
PRODID:-//Konsertti- ja kongressitalo Mikaeli - Suomen kiinnostavin tapahtumatalo - ECPv6.10.1.1//NONSGML v1.0//EN
CALSCALE:GREGORIAN
METHOD:PUBLISH
X-ORIGINAL-URL:https://mikaeli.fi
X-WR-CALDESC:Events for Konsertti- ja kongressitalo Mikaeli - Suomen kiinnostavin tapahtumatalo
REFRESH-INTERVAL;VALUE=DURATION:PT1H
X-Robots-Tag:noindex
X-PUBLISHED-TTL:PT1H
BEGIN:VTIMEZONE
TZID:Europe/Helsinki
BEGIN:DAYLIGHT
TZOFFSETFROM:+0200
TZOFFSETTO:+0300
TZNAME:EEST
DTSTART:20210328T010000
END:DAYLIGHT
BEGIN:STANDARD
TZOFFSETFROM:+0300
TZOFFSETTO:+0200
TZNAME:EET
DTSTART:20211031T010000
END:STANDARD
END:VTIMEZONE
BEGIN:VEVENT
DTSTART;TZID=Europe/Helsinki:20211025T190000
DTEND;TZID=Europe/Helsinki:20211025T190000
DTSTAMP:20260425T163117
CREATED:20210906T101207Z
LAST-MODIFIED:20211025T121935Z
UID:1007-1635188400-1635188400@mikaeli.fi
SUMMARY:Ismo Leikola - Ei mitään vakavaa
DESCRIPTION:Nyt koteloitumisvaiheen jälkeen stand-up-lavoille lennähtää ei ainoastaan täysin uusi show\, vaan suorastaan uusi ihminen\, uudestisyntynyt Ismo\, joka on saanut 20 sekunnin mittaisen kasteen käsienpesualtaassa. Pidemmän keikkatauon aikana Ismo sukelsi pohdinnoissaan yhä syvemmälle ja löysi ennennäkemättömiä vastauksia – myös siihen iänikuiseen kysymykseen: Mille saa nauraa. ”Ei mitään vakavaa” on show jossa todella koetellaan rajoja. Tai oikeammin mennään niistä läpi että heilahtaa. Sellaisella nauravalla muurinmurtajalla. \nSitten virallinen ohjeistus. Nykytilanteesta johtuen tilaisuuksissa edellytetään kaikilta yleisön jäseniltä sitä\, että he käyttävät maskia tai visiiriä tai jotain semmosta. Umpinainen moottoripyöräkypärä käy myös tai kuupuku. Tai ilmastointiteippi joka peittää sekä suun että nenän. Jos joku on kiinnostunut mussuttamaan\, länkättämään tai urputtamaan tästä\, huomautamme että myös mussutus on suoritettava maski naamalla. \nTodella halutaan\, että kiertue voidaan toteuttaa ja toivotaan että kaikki on valmiita puhaltamaan yhteen hiileen. Siis vertauskuvallisesti. Konkreettinen yhteen hiileen puhaltaminen ei ole suositeltavaa näinä aikoina\, kun pöpöt leviää. \nLippuhinnat (sis. palvelumaksut):\n– Peruslippu 38\,50€\n– Eläke/Opiskelija/Varusmies/Työtön 34\,50€ \nIkäraja:\nK-18 \nKesto:\nNoin 2h väliaikoineen (koronarajoitusten vuoksi voi olla myös 2\,5h riippuen väliajan pituudesta) \nTuotanto:\nTuota Niin Tuotanto (W&T Comedy)
URL:https://mikaeli.fi/event/1007/
CATEGORIES:Tapahtuma,Viihde
END:VEVENT
END:VCALENDAR