BEGIN:VCALENDAR
VERSION:2.0
PRODID:-//Konsertti- ja kongressitalo Mikaeli - Suomen kiinnostavin tapahtumatalo - ECPv6.10.1.1//NONSGML v1.0//EN
CALSCALE:GREGORIAN
METHOD:PUBLISH
X-ORIGINAL-URL:https://mikaeli.fi
X-WR-CALDESC:Events for Konsertti- ja kongressitalo Mikaeli - Suomen kiinnostavin tapahtumatalo
REFRESH-INTERVAL;VALUE=DURATION:PT1H
X-Robots-Tag:noindex
X-PUBLISHED-TTL:PT1H
BEGIN:VTIMEZONE
TZID:Europe/Helsinki
BEGIN:DAYLIGHT
TZOFFSETFROM:+0200
TZOFFSETTO:+0300
TZNAME:EEST
DTSTART:20210328T010000
END:DAYLIGHT
BEGIN:STANDARD
TZOFFSETFROM:+0300
TZOFFSETTO:+0200
TZNAME:EET
DTSTART:20211031T010000
END:STANDARD
END:VTIMEZONE
BEGIN:VEVENT
DTSTART;TZID=Europe/Helsinki:20211027T190000
DTEND;TZID=Europe/Helsinki:20211027T190000
DTSTAMP:20260425T163116
CREATED:20210622T111348Z
LAST-MODIFIED:20211008T125407Z
UID:380-1635361200-1635361200@mikaeli.fi
SUMMARY:Tommy Hellsten -Virtahepo makuuhuoneessa -Miksi rakastaa voi vain vapaudessa?
DESCRIPTION:Tapahtuma on siirretty\, edellinen ajankohta 11.5.2021. Jo ostetut liput käyvät sellaisenaan uuteen ajankohtaan. \nTommy Hellsten on luennoitsija\, teologi\, terapeutti\, Ihminen tavattavissa -ohjelman perustaja ja yksi Suomen tunnetuimmista kirjailijoista. Hellsten on kirjoittanut kolmisenkymmentä kirjaa ja kiertänyt vuosikymmenten aikana ympäri maailmaa puhumassa kirjojensa aiheista. \nVuosi 2021 on Tommy Hellstenin juhlavuosi. Tommyn ensimmäisen kirjan Virtahepo olohuoneessa julkaisusta tulee kuluneeksi 30 vuotta. Jo kolmekymmentä vuotta Tommy on toiminut tuhansille suomalaisille opastajana ja sanoittajana ihmisyyden matkalla. Virtahepo olohuoneessa -klassikkoteoksen lisäksi Hellstenin tunnetuimpia teoksia ovat mm. Saat sen mistä luovut (2000)\, Tähän olen tullut (2016) ja Enää en pelkää (2019). \nJuhlavuoden kunniaksi julkaistaan Hellstenin uusi teos Virtahepo makuuhuoneessa – Miksi rakastaa voi vain vapaudessa. Tämän teeman alla Tommy nähdään myös puhujakiertueella konserttisaleissa ja kirkoissa eri puolella Suomea. \nVirtahepo makuuhuoneessa -kirjan ydinviesti on\, että suhde toiseen ihmiseen on syvin inhimillinen tarpeemme. Rakkaus on – keveää\, raskasta\, ihanaa\, kamalaa. Ja vaikka toisin haluaisimme\, monesti vaikeaa. \nTommy Hellsten kirjoittaa uutuusteoksessaan rakkaudesta. Sen tosi kasvualusta voi olla vain vapaus ja erillisyys. Kuitenkin tuomme suhteeseen helposti menneisyytemme haavat\, velvoitamme toista ja takerrumme häneen – silloin rakkautta kuormittaa tiedostamattomuuden virtahepo. Se estää aidon kohtaamisen\, läheisyyden ja saa meidät odottamaan toiselta täydellisyyttä. \nTosi rakkaus ei vaadi\, se antaa. Vasta kun kohtaan omat haavani\, osaan päästää toisen vapaaksi. Vasta silloin hän voi tulla luokseni. \nMartti Talvela -sali \nLiput ennakkoon 28 € (sis. käsittelykulun)\nLiput ovelta 30 € (sis. käsittelykulun)
URL:https://mikaeli.fi/event/tommy-hellsten-virtaherpo-makuuhuoneessa-miksi-rakastaa-voi-vain-vapaudessa-tapahtuma-siirtynyt/
CATEGORIES:Tapahtuma
END:VEVENT
END:VCALENDAR