BEGIN:VCALENDAR
VERSION:2.0
PRODID:-//Konsertti- ja kongressitalo Mikaeli - Suomen kiinnostavin tapahtumatalo - ECPv6.10.1.1//NONSGML v1.0//EN
CALSCALE:GREGORIAN
METHOD:PUBLISH
X-WR-CALNAME:Konsertti- ja kongressitalo Mikaeli - Suomen kiinnostavin tapahtumatalo
X-ORIGINAL-URL:https://mikaeli.fi
X-WR-CALDESC:Events for Konsertti- ja kongressitalo Mikaeli - Suomen kiinnostavin tapahtumatalo
REFRESH-INTERVAL;VALUE=DURATION:PT1H
X-Robots-Tag:noindex
X-PUBLISHED-TTL:PT1H
BEGIN:VTIMEZONE
TZID:Europe/Helsinki
BEGIN:DAYLIGHT
TZOFFSETFROM:+0200
TZOFFSETTO:+0300
TZNAME:EEST
DTSTART:20210328T010000
END:DAYLIGHT
BEGIN:STANDARD
TZOFFSETFROM:+0300
TZOFFSETTO:+0200
TZNAME:EET
DTSTART:20211031T010000
END:STANDARD
END:VTIMEZONE
BEGIN:VEVENT
DTSTART;VALUE=DATE:20211103
DTEND;VALUE=DATE:20211104
DTSTAMP:20260425T162950
CREATED:20211006T090413Z
LAST-MODIFIED:20211011T085756Z
UID:1111-1635897600-1635983999@mikaeli.fi
SUMMARY:Pikku Kakkosen Seikkailukone
DESCRIPTION:Seikkailukone-konsertit riemastuttavat marraskuussa Mikkelissä\nNäytökset ovat klo 11\, klo 15 ja klo 17.30\nKesto noin 40 min\n\nReppu-Heppu ystävineen kutsuu mukaan talvisiin seikkailuihin! \nYlös\, eteen\, oikeaan\, alas\, taakse\, vasempaan! Pikku Kakkosesta tuttu Seikkailukone polkaistaan käyntiin Mikkelissä järjestettävissä konserteissa. Seikkailua kuljettaa mielikuvittelun mestari Reppu-Heppu\, jonka johdolla päästään laulamaan ja leikkimään talvikaupungissa ja ihmettelemään talvihuvipuiston menoa. \nReppu-Hepun kanssa lavalla seikkailee joukko tuttuja Pikku Kakkosesta: Tuomo\, Yasmin\, Jaakko sekä veijarimainen Nalle. Reissumusiikista vastaa Seikkailukoneen oma bändi\, jossa Tuomon kanssa soittavat Isa-Eerika Lehto\, Janne Ali-Vehmas ja Veikko Muikku. \nPitkästä aikaa myös yleisöllä on mahdollisuus osallistua konserttiin paikan päällä ja heittäytyä iloiseen seikkailuun. Klo 15 ja 17.30 konsertit taltioidaan ja nähdään Yle TV2:ssa ja Yle Areenassa uuden vuoden vaihduttua 1.1.2022 ja 8.1.2022. \nYlös\, eteen\, oikeaan\, alas\, taakse\, vasempaan\, seikkailun voit löytää ihan mistä vaan – kuten marraskuussa Mikkelistä! \nLiput 10\,50 €\nHUOM. myös sylivauvoille tulee lunastaa lippu! \nJärj. YLE Pikku Kakkonen
URL:https://mikaeli.fi/event/pikku-kakkosen-seikkailukone/
CATEGORIES:Lapset ja nuoret,Tapahtuma,Viihde
END:VEVENT
END:VCALENDAR