BEGIN:VCALENDAR
VERSION:2.0
PRODID:-//Konsertti- ja kongressitalo Mikaeli - Suomen kiinnostavin tapahtumatalo - ECPv6.10.1.1//NONSGML v1.0//EN
CALSCALE:GREGORIAN
METHOD:PUBLISH
X-WR-CALNAME:Konsertti- ja kongressitalo Mikaeli - Suomen kiinnostavin tapahtumatalo
X-ORIGINAL-URL:https://mikaeli.fi
X-WR-CALDESC:Events for Konsertti- ja kongressitalo Mikaeli - Suomen kiinnostavin tapahtumatalo
REFRESH-INTERVAL;VALUE=DURATION:PT1H
X-Robots-Tag:noindex
X-PUBLISHED-TTL:PT1H
BEGIN:VTIMEZONE
TZID:Europe/Helsinki
BEGIN:DAYLIGHT
TZOFFSETFROM:+0200
TZOFFSETTO:+0300
TZNAME:EEST
DTSTART:20210328T010000
END:DAYLIGHT
BEGIN:STANDARD
TZOFFSETFROM:+0300
TZOFFSETTO:+0200
TZNAME:EET
DTSTART:20211031T010000
END:STANDARD
END:VTIMEZONE
BEGIN:VEVENT
DTSTART;TZID=Europe/Helsinki:20211107T180000
DTEND;TZID=Europe/Helsinki:20211107T180000
DTSTAMP:20260425T150146
CREATED:20210622T115803Z
LAST-MODIFIED:20211104T132950Z
UID:389-1636308000-1636308000@mikaeli.fi
SUMMARY:Maustetytöt - Vuoden pimein yö 
DESCRIPTION:Tapahtuma on siirretty muutaman viikon aikaisemmaksi (edelliset ajankohdat 3.10.2020 ja 27.11.2021). Huom\, myös tapahtuman nimi muuttunut. Jo ostetut liput käyvät sellaisenaan uuteen ajankohtaan. \nMaustetytöt tekevät joulun alla konserttisalikiertueen\, jonka keikoilla kuullaan kattavasti Maustetyttöjen tähänastista tuotantoa. Konserttisalit luovat intiimin ympäristön Maustetyttöjen surumielisille lauluille ja erityisesti kappaleille\, jotka normaalisti klubeilla ja festivaaleilla jäävät esittämättä. \nVuoden pimein yö -konserttisalikiertueella Maustetyttöjen kappaleita kuullaan kahden setin verran. Viime vuoden Emma Gaalassa Vuoden rock- ja Vuoden yhtye -palkinnoilla palkittu Maustetytöt aloittaa kiertueensa marraskuun ensimmäisenä viikonloppuna Mikkelistä ja päättää rupeamansa joulun alla Oulussa. \nLiput 24\,50 € (sis. käsittelykulut) \nKesto noin 2h (sis. väliajan)
URL:https://mikaeli.fi/event/maustetytot-tapahtuma-siirtynyt/
CATEGORIES:Musiikki,Tapahtuma
END:VEVENT
END:VCALENDAR