BEGIN:VCALENDAR
VERSION:2.0
PRODID:-//Konsertti- ja kongressitalo Mikaeli - Suomen kiinnostavin tapahtumatalo - ECPv6.10.1.1//NONSGML v1.0//EN
CALSCALE:GREGORIAN
METHOD:PUBLISH
X-ORIGINAL-URL:https://mikaeli.fi
X-WR-CALDESC:Events for Konsertti- ja kongressitalo Mikaeli - Suomen kiinnostavin tapahtumatalo
REFRESH-INTERVAL;VALUE=DURATION:PT1H
X-Robots-Tag:noindex
X-PUBLISHED-TTL:PT1H
BEGIN:VTIMEZONE
TZID:Europe/Helsinki
BEGIN:DAYLIGHT
TZOFFSETFROM:+0200
TZOFFSETTO:+0300
TZNAME:EEST
DTSTART:20210328T010000
END:DAYLIGHT
BEGIN:STANDARD
TZOFFSETFROM:+0300
TZOFFSETTO:+0200
TZNAME:EET
DTSTART:20211031T010000
END:STANDARD
END:VTIMEZONE
BEGIN:VEVENT
DTSTART;TZID=Europe/Helsinki:20211111T180000
DTEND;TZID=Europe/Helsinki:20211111T180000
DTSTAMP:20260425T163000
CREATED:20210820T133450Z
LAST-MODIFIED:20211015T133926Z
UID:928-1636653600-1636653600@mikaeli.fi
SUMMARY:ESTRADILLA MUSIIKKIOPISTON SOLISTIT
DESCRIPTION:Jyrki Lasonpalo\, kapellimestari\nMikkelin musiikkiopiston solistit \nPerinteisessä nuorten solistien konsertissa soittavat tulevaisuuden lupaukset Mikkelin musiikkiopistosta. Kaupunginorkesterin ja musiikkiopiston vahvan yhteistyön hedelmistä saamme nauttia varmasti vielä pitkään. Konsertin johtaa tuttuun tapaan Mikkelin kaupunginorkesterin konserttimestari Jyrki Lasonpalo. \nMikkelin musiikkiopisto on ohjannut vuodesta 1960 lähtien alueensa lapsia ja nuoria musiikin harrastamisessa sekä viitoittanut tietä ammattiin tähdänneille oppilaille. Opetusaineita voi tätä nykyä opiskella klassisesta musiikista rytmimusiikkiin. \nLIPUT: 19 € / 17 € / 6 €\nLipunmyynnistä vastaa orkesterin toimisto\, yhteystiedot löydät täältä. \nJärj. Mikkelin kaupunginorkesteri
URL:https://mikaeli.fi/event/estradilla-musiikkiopiston-solistit/
CATEGORIES:Musiikki
END:VEVENT
END:VCALENDAR