BEGIN:VCALENDAR
VERSION:2.0
PRODID:-//Konsertti- ja kongressitalo Mikaeli - Suomen kiinnostavin tapahtumatalo - ECPv6.10.1.1//NONSGML v1.0//EN
CALSCALE:GREGORIAN
METHOD:PUBLISH
X-WR-CALNAME:Konsertti- ja kongressitalo Mikaeli - Suomen kiinnostavin tapahtumatalo
X-ORIGINAL-URL:https://mikaeli.fi
X-WR-CALDESC:Events for Konsertti- ja kongressitalo Mikaeli - Suomen kiinnostavin tapahtumatalo
REFRESH-INTERVAL;VALUE=DURATION:PT1H
X-Robots-Tag:noindex
X-PUBLISHED-TTL:PT1H
BEGIN:VTIMEZONE
TZID:Europe/Helsinki
BEGIN:DAYLIGHT
TZOFFSETFROM:+0200
TZOFFSETTO:+0300
TZNAME:EEST
DTSTART:20210328T010000
END:DAYLIGHT
BEGIN:STANDARD
TZOFFSETFROM:+0300
TZOFFSETTO:+0200
TZNAME:EET
DTSTART:20211031T010000
END:STANDARD
END:VTIMEZONE
BEGIN:VEVENT
DTSTART;TZID=Europe/Helsinki:20211112T190000
DTEND;TZID=Europe/Helsinki:20211112T190000
DTSTAMP:20260425T162951
CREATED:20210622T120030Z
LAST-MODIFIED:20210810T154228Z
UID:392-1636743600-1636743600@mikaeli.fi
SUMMARY:Sir Elwoodin hiljaiset värit
DESCRIPTION:Sir Elwoodin hiljaiset värit: Aamupäivän Errol Flynn \nMartti Talvela -sali \nLipun hinnat: \nPeruslippu 42\,00 €\nOpiskelija 33\,50 €\nRyhmät min 10 hlöä 39\,00 € \nJärj. Piikkikasvi Agency Oy
URL:https://mikaeli.fi/event/sit-elwoodin-hiljaiset-varit/
CATEGORIES:Musiikki,Tapahtuma
END:VEVENT
END:VCALENDAR