BEGIN:VCALENDAR
VERSION:2.0
PRODID:-//Konsertti- ja kongressitalo Mikaeli - Suomen kiinnostavin tapahtumatalo - ECPv6.10.1.1//NONSGML v1.0//EN
CALSCALE:GREGORIAN
METHOD:PUBLISH
X-ORIGINAL-URL:https://mikaeli.fi
X-WR-CALDESC:Events for Konsertti- ja kongressitalo Mikaeli - Suomen kiinnostavin tapahtumatalo
REFRESH-INTERVAL;VALUE=DURATION:PT1H
X-Robots-Tag:noindex
X-PUBLISHED-TTL:PT1H
BEGIN:VTIMEZONE
TZID:Europe/Helsinki
BEGIN:DAYLIGHT
TZOFFSETFROM:+0200
TZOFFSETTO:+0300
TZNAME:EEST
DTSTART:20210328T010000
END:DAYLIGHT
BEGIN:STANDARD
TZOFFSETFROM:+0300
TZOFFSETTO:+0200
TZNAME:EET
DTSTART:20211031T010000
END:STANDARD
END:VTIMEZONE
BEGIN:VEVENT
DTSTART;TZID=Europe/Helsinki:20211119T190000
DTEND;TZID=Europe/Helsinki:20211119T190000
DTSTAMP:20260425T162947
CREATED:20210622T120613Z
LAST-MODIFIED:20210810T154752Z
UID:405-1637348400-1637348400@mikaeli.fi
SUMMARY:Erin 10 vuotta hunningolla -juhlakiertue
DESCRIPTION:ERIN JUHLAKIERTUEELLE SYKSYLLÄ \nIhastuttava Erin lähtee tulevana syksynä mittavalle konserttisalikiertueelle. 10 vuotta hunningolla -juhlakiertue juhlistaa Erinin kymmenvuotista soolouraa. Kiertueella kuullaan kappaleita myös syksyllä julkaistavalta uudelta albumilta.\n\n-Ihanaa päästä keikoille – ja lisäksi vielä juhlimaan kymmenvuotista soolouraa. Ensimmäistä omaa kappaletta tehdessäni en tiennyt löytääkö jengi musaani vai ei. En osannut myöskään ajatella\, että biisien kirjoittamisesta tulee minun juttuni ja minusta laulaja-lauluntekijä. Mutta tässä sitä ollaan! Bändin ja tiimin lisäksi moni keikoillani kävijä on kulkenut matkassa mukana jopa kymmenen vuotta. Rakastan yleisöäni\, sen edessä olen mukavuusalueellani – tajuamme toisiamme ja on sairaan siistiä\, että on löytynyt oma jengi joka tulee keikoille ja joiden kanssa voi kokea asioita\, fiilistellä\, itkeä ja nauraa\,  Erin sanoo. \nErinin uusin single Niinku koko ajan ilmestyi huhtikuussa 2021 ja se nousi suoraan radioiden soittolistoille sekä Spotifyn kuunnelluimpien kappaleiden joukkoon. Niinku koko ajan seuraa toukokuussa 2020 ilmestynyttä paluusingleä Yhtenä sunnuntaina\, josta tuli nopeasti yksi maamme soitetuimmista kappaleista ja myös kaikkien radioiden soitetuin biisi. Kuukausia Spotifyn top 50 -listalla pysytellyt Yhtenä sunnuntaina sai Radiomedian antaman Kuukauden radiobiisi -palkinnon syys- ja lokakuussa 2020\, eli oli noina kuukausia radioiden kautta eniten suomalaisia tavoittanut kappale. \nMartti Talvela -sali \n\n\n\n\n\n\nLiput 39\,50 € (sis.palvelumaksu)
URL:https://mikaeli.fi/event/erin-10v-huningolla-juhlakiertue/
CATEGORIES:Musiikki,Tapahtuma
END:VEVENT
END:VCALENDAR