BEGIN:VCALENDAR
VERSION:2.0
PRODID:-//Konsertti- ja kongressitalo Mikaeli - Suomen kiinnostavin tapahtumatalo - ECPv6.10.1.1//NONSGML v1.0//EN
CALSCALE:GREGORIAN
METHOD:PUBLISH
X-ORIGINAL-URL:https://mikaeli.fi
X-WR-CALDESC:Events for Konsertti- ja kongressitalo Mikaeli - Suomen kiinnostavin tapahtumatalo
REFRESH-INTERVAL;VALUE=DURATION:PT1H
X-Robots-Tag:noindex
X-PUBLISHED-TTL:PT1H
BEGIN:VTIMEZONE
TZID:Europe/Helsinki
BEGIN:DAYLIGHT
TZOFFSETFROM:+0200
TZOFFSETTO:+0300
TZNAME:EEST
DTSTART:20210328T010000
END:DAYLIGHT
BEGIN:STANDARD
TZOFFSETFROM:+0300
TZOFFSETTO:+0200
TZNAME:EET
DTSTART:20211031T010000
END:STANDARD
END:VTIMEZONE
BEGIN:VEVENT
DTSTART;TZID=Europe/Helsinki:20211126T190000
DTEND;TZID=Europe/Helsinki:20211126T190000
DTSTAMP:20260425T163000
CREATED:20210820T134015Z
LAST-MODIFIED:20211015T133913Z
UID:935-1637953200-1637953200@mikaeli.fi
SUMMARY:SAIMAA SINFONIETTA – VIIHTEELLÄ
DESCRIPTION:Vytautas Lukočius\, kapellimestari\nMarjukka Tepponen\, sopraano\nAarne Pelkonen\, baritoni \nValohoitoa marraskuun lopun synkkyyteen tarjoillaan Saimaa Sinfoniettan viihdekonsertissa koko Mikaelin täydeltä. Solisteina kilpaa spottivalojen kanssa loistavat suurta suosiota niin ooppera- kuin viihdelavoillakin saaneet sopraano Marjukka Tepponen ja baritoni Aarne Pelkonen. Mikkelin ja Lappeenrannan kaupunginorkesterit esittävät laajan kattauksen rakastettuja musikaalisävelmiä\, ikonista elokuvamusiikkia ja kansainvälisiä hittejä eri vuosikymmeniltä. Nostalgiaa\, tunteiden vuoristorataa ja hyvää meininkiä luvassa siis koko illan. Koko komeuden johtaa kapellimestari Vytautas Lukočius. \nLIPUT: 27\,50 € / 25\,50 € / 10 €\nLipunmyynnistä vastaa orkesterin toimisto\, yhteystiedot löydät täältä. \nJärj. Mikkelin kaupunginorkesteri
URL:https://mikaeli.fi/event/saimaa-sinfonietta-viihteella/
CATEGORIES:Musiikki
END:VEVENT
END:VCALENDAR