BEGIN:VCALENDAR
VERSION:2.0
PRODID:-//Konsertti- ja kongressitalo Mikaeli - Suomen kiinnostavin tapahtumatalo - ECPv6.10.1.1//NONSGML v1.0//EN
CALSCALE:GREGORIAN
METHOD:PUBLISH
X-WR-CALNAME:Konsertti- ja kongressitalo Mikaeli - Suomen kiinnostavin tapahtumatalo
X-ORIGINAL-URL:https://mikaeli.fi
X-WR-CALDESC:Events for Konsertti- ja kongressitalo Mikaeli - Suomen kiinnostavin tapahtumatalo
REFRESH-INTERVAL;VALUE=DURATION:PT1H
X-Robots-Tag:noindex
X-PUBLISHED-TTL:PT1H
BEGIN:VTIMEZONE
TZID:Europe/Helsinki
BEGIN:DAYLIGHT
TZOFFSETFROM:+0200
TZOFFSETTO:+0300
TZNAME:EEST
DTSTART:20210328T010000
END:DAYLIGHT
BEGIN:STANDARD
TZOFFSETFROM:+0300
TZOFFSETTO:+0200
TZNAME:EET
DTSTART:20211031T010000
END:STANDARD
END:VTIMEZONE
BEGIN:VEVENT
DTSTART;TZID=Europe/Helsinki:20211213T180000
DTEND;TZID=Europe/Helsinki:20211213T183000
DTSTAMP:20260425T162950
CREATED:20210902T115049Z
LAST-MODIFIED:20210902T115612Z
UID:988-1639418400-1639420200@mikaeli.fi
SUMMARY:Voimisteluseura Sirius – Aladdin voimistelunäytös
DESCRIPTION:Hyppää mukaan lentävän maton kyytiin läpi Agraban! Koe unohtumaton tarina Aladdinista uudella tyylillä\, voimistelulla! Näet illan aikana maailman kauneimmaksi voimistelulajiksi kehutun rytmisen voimistelun lajikirjon Jasminesta\, Rajah tiikeristä itämaisiin neitoihin. Sydämentykytyksiä aiheuttavan akrobatiavoimistelun korkeat heitot lentävän maton kyydissä sekä monia muita harrastevoimistelun ryhmiä. Ilta jota et unohda! \nTervetuloa Voimisteluseura Siriuksen joulunäytökseen Aladdin! \nLiput\nPermanto 14\,50 €\nParvi 10\,00 € \nKesto 2h 10min\nVäliaika 30min \nJärj. Voimisteluseura Sirius
URL:https://mikaeli.fi/event/voimisteluseura-sirius-aladdin-voimistelunaytos/
CATEGORIES:Tapahtuma,Viihde
END:VEVENT
END:VCALENDAR