BEGIN:VCALENDAR
VERSION:2.0
PRODID:-//Konsertti- ja kongressitalo Mikaeli - Suomen kiinnostavin tapahtumatalo - ECPv6.10.1.1//NONSGML v1.0//EN
CALSCALE:GREGORIAN
METHOD:PUBLISH
X-ORIGINAL-URL:https://mikaeli.fi
X-WR-CALDESC:Events for Konsertti- ja kongressitalo Mikaeli - Suomen kiinnostavin tapahtumatalo
REFRESH-INTERVAL;VALUE=DURATION:PT1H
X-Robots-Tag:noindex
X-PUBLISHED-TTL:PT1H
BEGIN:VTIMEZONE
TZID:Europe/Helsinki
BEGIN:DAYLIGHT
TZOFFSETFROM:+0200
TZOFFSETTO:+0300
TZNAME:EEST
DTSTART:20220327T010000
END:DAYLIGHT
BEGIN:STANDARD
TZOFFSETFROM:+0300
TZOFFSETTO:+0200
TZNAME:EET
DTSTART:20221030T010000
END:STANDARD
END:VTIMEZONE
BEGIN:VEVENT
DTSTART;TZID=Europe/Helsinki:20220331T190000
DTEND;TZID=Europe/Helsinki:20220331T190000
DTSTAMP:20260425T053157
CREATED:20211202T100936Z
LAST-MODIFIED:20211202T101005Z
UID:1248-1648753200-1648753200@mikaeli.fi
SUMMARY:SF-Blues
DESCRIPTION:Kauan odotettu konserttivieras SF-Blues palaa maalis – huhtikuussa 2022 20-vuotis juhlakonsertti kiertueelle. SF-Blues eli Pepe Ahlqvist\, Heikki Silvennoinen ja Dave Lindholm (Bluesia yhteensä yli 200 vuotta!). Mukana keikoilla myös Rock ’n’ Roll pioneeri Eero Raittinen sekä Hammond-mestari Jukka Gustavson. Kompissa Mikko Löytty bassossa ja Jani Auvinen rummuissa.\nKiertueella mukana myös vierailevia huippuartisteja. \nLiput 32\,00 €
URL:https://mikaeli.fi/event/sf-blues/
CATEGORIES:Musiikki,Tapahtuma
END:VEVENT
END:VCALENDAR