BEGIN:VCALENDAR
VERSION:2.0
PRODID:-//Konsertti- ja kongressitalo Mikaeli - Suomen kiinnostavin tapahtumatalo - ECPv6.10.1.1//NONSGML v1.0//EN
CALSCALE:GREGORIAN
METHOD:PUBLISH
X-WR-CALNAME:Konsertti- ja kongressitalo Mikaeli - Suomen kiinnostavin tapahtumatalo
X-ORIGINAL-URL:https://mikaeli.fi
X-WR-CALDESC:Events for Konsertti- ja kongressitalo Mikaeli - Suomen kiinnostavin tapahtumatalo
REFRESH-INTERVAL;VALUE=DURATION:PT1H
X-Robots-Tag:noindex
X-PUBLISHED-TTL:PT1H
BEGIN:VTIMEZONE
TZID:Europe/Helsinki
BEGIN:DAYLIGHT
TZOFFSETFROM:+0200
TZOFFSETTO:+0300
TZNAME:EEST
DTSTART:20220327T010000
END:DAYLIGHT
BEGIN:STANDARD
TZOFFSETFROM:+0300
TZOFFSETTO:+0200
TZNAME:EET
DTSTART:20221030T010000
END:STANDARD
END:VTIMEZONE
BEGIN:VEVENT
DTSTART;TZID=Europe/Helsinki:20220409T190000
DTEND;TZID=Europe/Helsinki:20220409T190000
DTSTAMP:20260425T053046
CREATED:20211203T133137Z
LAST-MODIFIED:20220408T111902Z
UID:1263-1649530800-1649530800@mikaeli.fi
SUMMARY:KATRI HELENA
DESCRIPTION:Katri Helena yksi suomen menestyneimmistä iskelmälaulajista. Hän on levyttänyt vuoteen 2022 mennessä 481 laulua\, julkaissut 52 albumia ja kokoelmaa ja myynyt lähes 2 miljoonaa äänitettä. Hän on saanut 19 kultalevyä\, 4 platinalevyä ja yhden tuplaplatinan. \nKatri Helenan hittejä ovat muun muassa ”Anna mulle tähtitaivas”\, ”Mun sydämeni tänne jää”\, ”Katson sineen taivaan”\, ”Lintu ja lapsi”\, ” Vasten auringonsiltaa”\, ”Katson autiota hiekkarantaa” ja ”Puhelinlangat laulaa”. Esiintymisiä näinä vuosina on kertynyt yli 3500 ja matkakilometrejä reilut 3\,5 miljoona. \nHaluamme tarjota rentouttavan konsertti-illan Katri Helenan ja kapellimestari Tessa Virran johtaman orkesterin kanssa. \nLiput:\nPeruslippu 39\,50 €\nRyhmälippu väh. 20 hlö 34\,50 € \nKonsertin kesto n. 2h 10 min. väliaikoineen\nIkärajaton
URL:https://mikaeli.fi/event/katri-helena/
CATEGORIES:Musiikki,Tapahtuma
END:VEVENT
END:VCALENDAR