BEGIN:VCALENDAR
VERSION:2.0
PRODID:-//Konsertti- ja kongressitalo Mikaeli - Suomen kiinnostavin tapahtumatalo - ECPv6.10.1.1//NONSGML v1.0//EN
CALSCALE:GREGORIAN
METHOD:PUBLISH
X-WR-CALNAME:Konsertti- ja kongressitalo Mikaeli - Suomen kiinnostavin tapahtumatalo
X-ORIGINAL-URL:https://mikaeli.fi
X-WR-CALDESC:Events for Konsertti- ja kongressitalo Mikaeli - Suomen kiinnostavin tapahtumatalo
REFRESH-INTERVAL;VALUE=DURATION:PT1H
X-Robots-Tag:noindex
X-PUBLISHED-TTL:PT1H
BEGIN:VTIMEZONE
TZID:Europe/Helsinki
BEGIN:DAYLIGHT
TZOFFSETFROM:+0200
TZOFFSETTO:+0300
TZNAME:EEST
DTSTART:20220327T010000
END:DAYLIGHT
BEGIN:STANDARD
TZOFFSETFROM:+0300
TZOFFSETTO:+0200
TZNAME:EET
DTSTART:20221030T010000
END:STANDARD
END:VTIMEZONE
BEGIN:VEVENT
DTSTART;TZID=Europe/Helsinki:20220429T190000
DTEND;TZID=Europe/Helsinki:20220429T190000
DTSTAMP:20260425T035636
CREATED:20210621T081625Z
LAST-MODIFIED:20210819T124225Z
UID:305-1651258800-1651258800@mikaeli.fi
SUMMARY:Jarkko Tamminen -Kuuleeko Mikkeli? -Imitaatioshow
DESCRIPTION:(Tapahtuma siirretty\, aiemmat tapahtumapäivät 13.5.2020\, 23.9.2020\, 12.3.2021 ja 10.9.2021 klo 18 ja 21) \nAikaisemmat kaksi esitysaikaa klo 18 ja 21 on yhdistetty yhdeksi esitykseksi\, joka on 29.4.2022 klo 19. Tapahtuma toteutetaan numeroimattomalla katsomolla.  \nJo ostetut liput käyvät tapahtumaan. Mikäli uusi ajankohta ei kuitenkaan käy sinulle voit hakea lippurahojen palautusta pe 29.10.2021 saakka\, lue ohjeet palautuksiin täältä. \nJarkko Tammisen ”Kuuleeko Mikkeli?” -imitaatioshow rantautuu Mikkeliin. \nEsitys koostuu sekä puhe- että lauluimitaatioista. Lavalla nähdään ja kuullaan imitaatioita Sauli Niinistöstä Kimi Räikköseen ja Lauri Tähkästä Paula Koivuniemeen. Illan aikana käydään läpi ajankohtaisia aiheita ja myös paikalliset “kuuluisuudet” saavat osansa\, kun hahmot ottavat esille paikkakunnalla puhuttavia asioita.\nShowssa Jarkko on lavalla kovin ”alastomana”\, sillä esityksessä käytetään vain pientä rekvisiittaa: lakkeja\, peruukkeja ja takkeja\, ja lauluosuudet esitetään taustanauhojen kera. Esityksen sisältö on pääosin parhaita paloja Jarkon viime syksyn 2019 Jarkko Tamminen Showsta sekä sitä edeltävistä Stars Show-esityksistä. Ilta koostuu kahdesta hieman reilun puolen tunnin setistä\, joiden välissä on väliaika. \nMartti Talvela -sali \nLipun hinta: 35€ \nKatso muut kiertuepaikkakunnat: www.jarkkotamminenshow.fi
URL:https://mikaeli.fi/event/jarkko-tamminen-kuuleeko-mikkeli-iimitaatioshow-tapahtuma-siirretty/
CATEGORIES:Tapahtuma,Viihde
END:VEVENT
END:VCALENDAR