BEGIN:VCALENDAR
VERSION:2.0
PRODID:-//Konsertti- ja kongressitalo Mikaeli - Suomen kiinnostavin tapahtumatalo - ECPv6.10.1.1//NONSGML v1.0//EN
CALSCALE:GREGORIAN
METHOD:PUBLISH
X-WR-CALNAME:Konsertti- ja kongressitalo Mikaeli - Suomen kiinnostavin tapahtumatalo
X-ORIGINAL-URL:https://mikaeli.fi
X-WR-CALDESC:Events for Konsertti- ja kongressitalo Mikaeli - Suomen kiinnostavin tapahtumatalo
REFRESH-INTERVAL;VALUE=DURATION:PT1H
X-Robots-Tag:noindex
X-PUBLISHED-TTL:PT1H
BEGIN:VTIMEZONE
TZID:Europe/Helsinki
BEGIN:DAYLIGHT
TZOFFSETFROM:+0200
TZOFFSETTO:+0300
TZNAME:EEST
DTSTART:20220327T010000
END:DAYLIGHT
BEGIN:STANDARD
TZOFFSETFROM:+0300
TZOFFSETTO:+0200
TZNAME:EET
DTSTART:20221030T010000
END:STANDARD
END:VTIMEZONE
BEGIN:VEVENT
DTSTART;TZID=Europe/Helsinki:20220430T190000
DTEND;TZID=Europe/Helsinki:20220430T190000
DTSTAMP:20260425T035636
CREATED:20220318T082930Z
LAST-MODIFIED:20220426T091707Z
UID:1573-1651345200-1651345200@mikaeli.fi
SUMMARY:Suuri Vappuspektaakkeli
DESCRIPTION:Suuri Vappuspektaakkeli Mikaelissa! \nMikkelin kaupunginorkesteri järjestää yhdessä Konserttitalo Mikaelin ja Saimaa Stadiumin kanssa Suuren Vappuspektaakkelin. Vappuaattona 30.4. klo 19 järjestettävässä konsertissa Mikaelin lavalle nousevat Mikkelin kaupunginorkesterin vieraina maamme tunnetuin tanssittaja Kaartin Combo solistinaan valovoimainen Maria Lund. \nMikkelin kaupunginorkesterin\, Mikaelin ja Saimaa Stadiumin tavoitteena on luoda uusi hyvän mielen tapahtuma\, joka kokoaa kaupunkilaiset juhlimaan vappua svengaavan musiikin ääreen. Tapahtuma oli alun perin tarkoitus järjestää tanssittavana konserttina Saimaa Stadiumissa\, mutta vallitsevassa tilanteessa tilaisuus siirrettiin Mikaeliin\, jotta se voidaan järjestää turvallisesti numeroiduilla istumapaikoilla. \nLiput 10€
URL:https://mikaeli.fi/event/vappuspektaakkeli/
CATEGORIES:Musiikki,Tapahtuma,Viihde
END:VEVENT
END:VCALENDAR