BEGIN:VCALENDAR
VERSION:2.0
PRODID:-//Konsertti- ja kongressitalo Mikaeli - Suomen kiinnostavin tapahtumatalo - ECPv6.10.1.1//NONSGML v1.0//EN
CALSCALE:GREGORIAN
METHOD:PUBLISH
X-ORIGINAL-URL:https://mikaeli.fi
X-WR-CALDESC:Events for Konsertti- ja kongressitalo Mikaeli - Suomen kiinnostavin tapahtumatalo
REFRESH-INTERVAL;VALUE=DURATION:PT1H
X-Robots-Tag:noindex
X-PUBLISHED-TTL:PT1H
BEGIN:VTIMEZONE
TZID:Europe/Helsinki
BEGIN:DAYLIGHT
TZOFFSETFROM:+0200
TZOFFSETTO:+0300
TZNAME:EEST
DTSTART:20220327T010000
END:DAYLIGHT
BEGIN:STANDARD
TZOFFSETFROM:+0300
TZOFFSETTO:+0200
TZNAME:EET
DTSTART:20221030T010000
END:STANDARD
END:VTIMEZONE
BEGIN:VEVENT
DTSTART;TZID=Europe/Helsinki:20220505T190000
DTEND;TZID=Europe/Helsinki:20220505T193000
DTSTAMP:20260425T005437
CREATED:20220321T075759Z
LAST-MODIFIED:20220505T094401Z
UID:1584-1651777200-1651779000@mikaeli.fi
SUMMARY:Rakuunasoittokunta: Ruusu äidille
DESCRIPTION:RUUSU ÄIDILLE\nÄitienpäiväkonsertti \nRakuunasoittokunta\nmusiikkimajurit Riku Huhtasalo ja Tomi Väisänen\, kapellimestarit\nKyösti Mäkimattila\, laulu \nJo perinteeksi muodostuneessa konsertissa Rakuunasoittokunta ojentaa solistinsa kanssa ruusun äidille tunnettujen melodioiden ja laulujen muodossa. Kyösti Mäkimattilan mahtavat tulkinnat eivät jätä ketään kylmäksi. \nLiput 20\,00 € \nJärj. Rakuunasoittokunta
URL:https://mikaeli.fi/event/rakuunasoittokunta-ruusu-aidille/
CATEGORIES:Musiikki,Tapahtuma
END:VEVENT
END:VCALENDAR