BEGIN:VCALENDAR
VERSION:2.0
PRODID:-//Konsertti- ja kongressitalo Mikaeli - Suomen kiinnostavin tapahtumatalo - ECPv6.10.1.1//NONSGML v1.0//EN
CALSCALE:GREGORIAN
METHOD:PUBLISH
X-ORIGINAL-URL:https://mikaeli.fi
X-WR-CALDESC:Events for Konsertti- ja kongressitalo Mikaeli - Suomen kiinnostavin tapahtumatalo
REFRESH-INTERVAL;VALUE=DURATION:PT1H
X-Robots-Tag:noindex
X-PUBLISHED-TTL:PT1H
BEGIN:VTIMEZONE
TZID:Europe/Helsinki
BEGIN:DAYLIGHT
TZOFFSETFROM:+0200
TZOFFSETTO:+0300
TZNAME:EEST
DTSTART:20220327T010000
END:DAYLIGHT
BEGIN:STANDARD
TZOFFSETFROM:+0300
TZOFFSETTO:+0200
TZNAME:EET
DTSTART:20221030T010000
END:STANDARD
END:VTIMEZONE
BEGIN:VEVENT
DTSTART;TZID=Europe/Helsinki:20220506T190000
DTEND;TZID=Europe/Helsinki:20220506T190000
DTSTAMP:20260425T005437
CREATED:20211214T123424Z
LAST-MODIFIED:20220414T123703Z
UID:1292-1651863600-1651863600@mikaeli.fi
SUMMARY:Andy McCoy trio: Andy 60 v-juhlakiertue
DESCRIPTION:Suomen isoin rocklegenda Andy McCoy saapuu juhlavuotensa kunniaksi trionsa kanssa intiimille\, 2-osaiselle ja akustiselle konserttisalikeikalle. Andy 60v- keikan materiaali koostuu Andyn pitkän uran\, eri kokoonpanojen biiseistä. Oman tuotannon lisäksi mukana on myös muutamia tarkkaan valittuja\, hienosti sovitettuja ja harvinaisempia coverkappaleita. Andyn lisäksi kokoonpanossa on mukana pianisti Johnny Crash ja taiteilija Sofia Zida. \nAndy McCoy ei esittelyjä kaipaa. Andy on elävä legenda! \nEi ikärajaa.\nKesto 2 x noin 45min \nLiput 39\,50 €
URL:https://mikaeli.fi/event/andy-mccoy-trio-andy-60-v-juhlakiertue/
CATEGORIES:Musiikki,Tapahtuma
END:VEVENT
END:VCALENDAR