BEGIN:VCALENDAR
VERSION:2.0
PRODID:-//Konsertti- ja kongressitalo Mikaeli - Suomen kiinnostavin tapahtumatalo - ECPv6.10.1.1//NONSGML v1.0//EN
CALSCALE:GREGORIAN
METHOD:PUBLISH
X-ORIGINAL-URL:https://mikaeli.fi
X-WR-CALDESC:Events for Konsertti- ja kongressitalo Mikaeli - Suomen kiinnostavin tapahtumatalo
REFRESH-INTERVAL;VALUE=DURATION:PT1H
X-Robots-Tag:noindex
X-PUBLISHED-TTL:PT1H
BEGIN:VTIMEZONE
TZID:Europe/Helsinki
BEGIN:DAYLIGHT
TZOFFSETFROM:+0200
TZOFFSETTO:+0300
TZNAME:EEST
DTSTART:20220327T010000
END:DAYLIGHT
BEGIN:STANDARD
TZOFFSETFROM:+0300
TZOFFSETTO:+0200
TZNAME:EET
DTSTART:20221030T010000
END:STANDARD
END:VTIMEZONE
BEGIN:VEVENT
DTSTART;VALUE=DATE:20220507
DTEND;VALUE=DATE:20220508
DTSTAMP:20260425T005437
CREATED:20220303T121830Z
LAST-MODIFIED:20220303T121830Z
UID:1505-1651881600-1651967999@mikaeli.fi
SUMMARY:Lahja äidille\, näytökset klo 14 ja klo 16
DESCRIPTION:Mikkelin Voimistelijat MiVo: Lahja äidille. \nÄitienpäivän aattona monessa perheessä jännitetään mitä äiti tulee pitämään lahjoistaan. Riittäkö äidille halaus vai olisiko yhteinen lukuhetki ihana lahja äidille?\nMikkelin Voimistelijoiden näytöksessä niin pienet taaperot kuin aikuisetkin pohtivat lahjoja äidille esityksissään. Näytöksessä mukana cheerleading ja seuran voimistelulajit. \nPermanto liput:\nPeruslippu 16\,00 €\nLapsi 14\,00 € (lapsen ikäraja 12v.) \nParven liput:\nPeruslippu 11\,50 €\nLapsi 9\,50 € (lapsen ikäraja 12v.)
URL:https://mikaeli.fi/event/lahja-aidille-naytokset-klo-14-ja-klo-16/
CATEGORIES:Musiikki,Tapahtuma
END:VEVENT
END:VCALENDAR