BEGIN:VCALENDAR
VERSION:2.0
PRODID:-//Konsertti- ja kongressitalo Mikaeli - Suomen kiinnostavin tapahtumatalo - ECPv6.10.1.1//NONSGML v1.0//EN
CALSCALE:GREGORIAN
METHOD:PUBLISH
X-WR-CALNAME:Konsertti- ja kongressitalo Mikaeli - Suomen kiinnostavin tapahtumatalo
X-ORIGINAL-URL:https://mikaeli.fi
X-WR-CALDESC:Events for Konsertti- ja kongressitalo Mikaeli - Suomen kiinnostavin tapahtumatalo
REFRESH-INTERVAL;VALUE=DURATION:PT1H
X-Robots-Tag:noindex
X-PUBLISHED-TTL:PT1H
BEGIN:VTIMEZONE
TZID:Europe/Helsinki
BEGIN:DAYLIGHT
TZOFFSETFROM:+0200
TZOFFSETTO:+0300
TZNAME:EEST
DTSTART:20220327T010000
END:DAYLIGHT
BEGIN:STANDARD
TZOFFSETFROM:+0300
TZOFFSETTO:+0200
TZNAME:EET
DTSTART:20221030T010000
END:STANDARD
END:VTIMEZONE
BEGIN:VEVENT
DTSTART;TZID=Europe/Helsinki:20220513T190000
DTEND;TZID=Europe/Helsinki:20220513T190000
DTSTAMP:20260425T022437
CREATED:20211210T142949Z
LAST-MODIFIED:20220510T090324Z
UID:1285-1652468400-1652468400@mikaeli.fi
SUMMARY:Tarja Turunen ja Pentti Hietanen - Kaunotar & Kulkuri / SIIRTYY
DESCRIPTION:Tiedote 14.4.2022 Loud’n Live:\nJoudumme ikäväksemme tiedottamaan\, että kyseinen kiertue joudutaan siirtämään kevääseen 2023 Suomen päässä olevien logististen ja tuotannollisten ongelmien takia. Haluamme vielä erikseen painottaa\, että kiertueen siirtyminen ensi keväälle ei riipu kiertueen solisteista tai artisteista.\nJo ostetut liput käyvät uuteen konserttipäivään sellaisenaan. Halutessasi voit myös palauttaa liput\, lippujen palautus on mahdollista 5.5.2022 saakka osoitteessa web.lippu.fi/palautus \nTulemme avaamaan palautuksen uudestaan viikoksi uusien päivien julkaisun jälkeen\, joten mikäli uudet päivät eivät käykään\, voit palauttaa lippusi vielä tässä vaiheessa. Uudet päivät julkaistaan viimeistään syyskuussa. \n  \nTarja Turunen ja Pentti Hietanen – Kaunotar & Kulkuri I Mikkeli\, Mikaeli I 13.5.2022 \nSuomen kirkkaimpiin laulajatähtiin luketuvat Tarja Turunen ja Pentti Hietanen yhdistävät voimansa ensi toukokuussa Kaunotar & Kulkuri -konsertissa. Ohjelmisto sisältää kummankin unohtumattomimpia sävelmiä. \nUpean kansainvälisen uran tehnyt Tarja Turunen julkaisi viimeisimmän Closer to the Sky -singlensä\, joka on täysin uusi aluevaltaus: tulevaa levyä on työstetty yhdessä saksalaisen edm-suuruus Torsten Stenzelin kanssa. Outlanders-nimellä kulkevassa projektissa ovat mukana myös muun muassa progejätti Yesin entinen kitaristi Trevor Rabin\, Joe Satrian\, Marty Friedman sekä Mike Oldfield. \nPentti Hietasen laaja-alainen ura upeiden ooppera- ja viihdeisävelmien tulkitsijana alkoi jo 1990-luvun lopulla\, ja toden teolla mies on laulanut itsensä suomalaisten sydämiin esimerkiksi Con Amore– sekä Rakastan elämää -albumeillaan. \nLipun hinta 59\,00 €\nKonsertin kesto n. 2h sis. väliaika \nJärj. Loud’n Live
URL:https://mikaeli.fi/event/tarja-turunen-ja-pentti-hietanen-kaunotar-kulkuri/
CATEGORIES:Musiikki,Tapahtuma
END:VEVENT
END:VCALENDAR