BEGIN:VCALENDAR
VERSION:2.0
PRODID:-//Konsertti- ja kongressitalo Mikaeli - Suomen kiinnostavin tapahtumatalo - ECPv6.10.1.1//NONSGML v1.0//EN
CALSCALE:GREGORIAN
METHOD:PUBLISH
X-ORIGINAL-URL:https://mikaeli.fi
X-WR-CALDESC:Events for Konsertti- ja kongressitalo Mikaeli - Suomen kiinnostavin tapahtumatalo
REFRESH-INTERVAL;VALUE=DURATION:PT1H
X-Robots-Tag:noindex
X-PUBLISHED-TTL:PT1H
BEGIN:VTIMEZONE
TZID:Europe/Helsinki
BEGIN:DAYLIGHT
TZOFFSETFROM:+0200
TZOFFSETTO:+0300
TZNAME:EEST
DTSTART:20220327T010000
END:DAYLIGHT
BEGIN:STANDARD
TZOFFSETFROM:+0300
TZOFFSETTO:+0200
TZNAME:EET
DTSTART:20221030T010000
END:STANDARD
END:VTIMEZONE
BEGIN:VEVENT
DTSTART;TZID=Europe/Helsinki:20220518T130000
DTEND;TZID=Europe/Helsinki:20220518T170000
DTSTAMP:20260425T005436
CREATED:20220111T101032Z
LAST-MODIFIED:20220111T101032Z
UID:1356-1652878800-1652893200@mikaeli.fi
SUMMARY:Veripalvelun verenluovutustilaisuus
DESCRIPTION:Verenluovutustilaisuus Mikaelissa klo 13-17. \nVaraa aikasi ja täytä terveyskysely etukäteen osoitteessa www.veripalvelu.fi\nLue myös ohjeet verenluovutukseen tulijoille koronapandemian aikana osoitteesta https://bit.ly/31LWBPf \nTervetuloa!
URL:https://mikaeli.fi/event/veripalvelun-verenluovutustilaisuus-14/
CATEGORIES:Tapahtuma
ATTACH;FMTTYPE=image/png:https://mikaeli.fi/wp-content/uploads/2022/01/Tule-verenluovutukseen-aineistopankki.png
END:VEVENT
END:VCALENDAR