BEGIN:VCALENDAR
VERSION:2.0
PRODID:-//Konsertti- ja kongressitalo Mikaeli - Suomen kiinnostavin tapahtumatalo - ECPv6.10.1.1//NONSGML v1.0//EN
CALSCALE:GREGORIAN
METHOD:PUBLISH
X-WR-CALNAME:Konsertti- ja kongressitalo Mikaeli - Suomen kiinnostavin tapahtumatalo
X-ORIGINAL-URL:https://mikaeli.fi
X-WR-CALDESC:Events for Konsertti- ja kongressitalo Mikaeli - Suomen kiinnostavin tapahtumatalo
REFRESH-INTERVAL;VALUE=DURATION:PT1H
X-Robots-Tag:noindex
X-PUBLISHED-TTL:PT1H
BEGIN:VTIMEZONE
TZID:Europe/Helsinki
BEGIN:DAYLIGHT
TZOFFSETFROM:+0200
TZOFFSETTO:+0300
TZNAME:EEST
DTSTART:20220327T010000
END:DAYLIGHT
BEGIN:STANDARD
TZOFFSETFROM:+0300
TZOFFSETTO:+0200
TZNAME:EET
DTSTART:20221030T010000
END:STANDARD
END:VTIMEZONE
BEGIN:VEVENT
DTSTART;TZID=Europe/Helsinki:20220520T190000
DTEND;TZID=Europe/Helsinki:20220520T190000
DTSTAMP:20260425T022438
CREATED:20210820T125555Z
LAST-MODIFIED:20210916T091945Z
UID:902-1653073200-1653073200@mikaeli.fi
SUMMARY:Francis Goya - Nostalgia
DESCRIPTION:Sympaattinen Francis Goya ei ole esiintynyt Suomessa yli kymmeneen vuoteen\, jollei mukaan lasketa syyskuussa 2018 Kangasniemellä järjestettyä hyväntekeväisyystapahtumaa\, jossa hän käväisi soittamassa suomalaisten ystäviensä kutsusta. \nFrancis Goyan suosion suuruudesta Suomessa todistavat muun muassa kaksi platinalevymyyntiin yltänyttä albumia: ”Summernight Moods” vuodelta 1979 ja ”Pohjolan yössä” vuodelta 1983. Kummatkin albumit kuuluvat niiden monien levyjen joukkoon\, jotka Goya levytti suomalaiselle levy-yhtiölle\, ensin Fazer-Finnlevylle ja sen jälkeen musiikkivaikuttaja Osmo Ruuskasen johtamalle Bluebird-yhtiölle. \nSuomessa levytetyillä albumeilla on kuultu hänen taiturimaisia instrumentaalitulkintojaan suomalaisille tutuista ikivihreistä kuten ”Paratiisi”\, ”Satulinna”\, ”Sininen ja valkoinen”\, ”Surun pyyhit silmistäni”\, ”Akselin ja Elinan häävalssi”\, ”Myrskyluodon Maija”\, ”Rantakoivun alla”\, ”Hopeinen kuu”\, ”Pohjolan yö” ja ”Ihmisen ikävä toisen luo”. \nNoihin aikoihin Francis Goyan voimallisesti aikuisyleisölle suunnattu musiikki soi ahkeraan tahtiin Ylen kanavilla ja hänet nähtiin usein esiintymässä suosituimmissa suomalaisissa televisio-ohjelmissa. Hänen konserttinsa olivat niin ikään järjestään loppuunmyytyjä. \nInstrumentaalimusiikki ei tunne kielirajoja! – Yli 20 miljoonaa myytyä levyä! \nLiegen kaupungissa\, Belgiassa toukokuussa 1946 syntyneen\, nykyisin Espanjassa asuvan Francis Goyan läpimurto maailmanmarkkinoille tapahtui vuonna 1975\, kun hän levytti yhdessä isänsä kanssa säveltämän\, kansainväliseksi instrumentaaliklassikoksi vuosien varrella osoittautuneen kauniin\, melodisen kappaleen nimeltä ”Nostalgia”. ”Nostalgia” kipusi muun muassa Hollannin\, Saksan\, Norjan ja Brasilian myyntilistoilla ja herätti yleisön kiinnostuksen Goyaa kohtaan ympäri Eurooppaa\, Aasiaa ja Etelä-Amerikkaa. \nKiitettävän tiiviiseen tahtiin levyttäneen Goyan tekemien albumien määrä ylittää 50 kappaleen rajan\, mikä tarkoittaa sitä\, että hän on keskimäärin levyttänyt vähintään yhden albumin per vuosi uransa alusta alkaen. Suuri osa albumeista on myynyt joko kultaa tai platinaa ja niiden yhteenlaskettu myyntilukema nousee yli 20 miljoonaan. \nSamoin kuin Suomessa myös muualla maailmassa Francis Goya on usein tehnyt yhteistyötä paikallisten musiikkivaikuttajien ja levy-yhtiöiden kanssa. Hänellä on poikkeuksellinen taito valita esitettäväkseen kunkin maan tai maanosan suosituimmista ikivihreistä ja listahiteistä juuri ne koskettavimmat ja ajattomimmat\, jotka ilman sanojakin vetoavat yleisöön. Instrumentaalimusiikki ei tunne kielirajoja! \nEsimerkkinä Francis Goyan levyttämistä latinalaisen musiikin suosikeista mainittakoon ”Besame mucho”\, ”Perfidia”\, ”Amor\, amor\, amor”\, ”Quando Sali de Cuba”\, ”Vaya con Dios” ja ”La Playa”. Slaavilaisuutta hänen runsaassa tuotannossaan edustavat ”Mandshurian kukkuloilla” ja ”Uralin pihlaja”\, ruotsalaista ”Ack Värmeland\, du sköna” ja ranskalaista ”Emmanuelle” ja ”Kuolleeet lehdet (Les Feuilles mortes)”. \nLiput 34\,90 (sis. palvelumaksun)\nKonsertissa ei ole väliaikaa \n 
URL:https://mikaeli.fi/event/francis-goya-nostalgia/
CATEGORIES:Musiikki
END:VEVENT
END:VCALENDAR