BEGIN:VCALENDAR
VERSION:2.0
PRODID:-//Konsertti- ja kongressitalo Mikaeli - Suomen kiinnostavin tapahtumatalo - ECPv6.10.1.1//NONSGML v1.0//EN
CALSCALE:GREGORIAN
METHOD:PUBLISH
X-WR-CALNAME:Konsertti- ja kongressitalo Mikaeli - Suomen kiinnostavin tapahtumatalo
X-ORIGINAL-URL:https://mikaeli.fi
X-WR-CALDESC:Events for Konsertti- ja kongressitalo Mikaeli - Suomen kiinnostavin tapahtumatalo
REFRESH-INTERVAL;VALUE=DURATION:PT1H
X-Robots-Tag:noindex
X-PUBLISHED-TTL:PT1H
BEGIN:VTIMEZONE
TZID:Europe/Helsinki
BEGIN:DAYLIGHT
TZOFFSETFROM:+0200
TZOFFSETTO:+0300
TZNAME:EEST
DTSTART:20220327T010000
END:DAYLIGHT
BEGIN:STANDARD
TZOFFSETFROM:+0300
TZOFFSETTO:+0200
TZNAME:EET
DTSTART:20221030T010000
END:STANDARD
END:VTIMEZONE
BEGIN:VEVENT
DTSTART;TZID=Europe/Helsinki:20220522T150000
DTEND;TZID=Europe/Helsinki:20220522T150000
DTSTAMP:20260425T022437
CREATED:20210622T123136Z
LAST-MODIFIED:20220120T125133Z
UID:437-1653231600-1653231600@mikaeli.fi
SUMMARY:Viaton 50-luku
DESCRIPTION:Tapahtuma on siirretty\, edelliset ajankohdat 29.3.2020\, 31.1.2021\, 22.5.2021 ja 6.2.2022. Jo ostetut liput käyvät sellaisenaan uuteen ajankohtaan. Lippurahojen palautusta voi hakea 31.3.2022 saakka.\nPalautusohjeet löydät täältä. \nSotasukupolvi on pelastanut maamme useaan otteeseen: sodissa ja vaaran vuosina. Enään ajanvietteellä ei katsota olevan kansallista tehtävää kuten sodan aikana: nyt sille rätkäistään rankka huvivero. Mutta taas saa tanssia. Sodista seestyvä Suomi jatkaa selviytymistarinaansa. \nAlkaa ankara jälleenrakennus. Alkaa viisikymmenluku- viattomaksikin mainittu. \nSodan viideveteraanit jatkavat työtään ja uusia tähtiä syttyy\, kohta jo naisiakin. Rillumarei savottajenkkoineen kukoistaa mutta sisältää myös upeasti tulkittua romantiikkaa. Italialaiset iskelmät valloitavat ja jazzin tahtiinkin lauletaan\, toki suomen kielellä. \nNuoriso saa omaa kulttuuriaan mutta aika lailla sukupolvet viihtyvät vielä yhteisten sävelten parissa: Täysikuu ja Poika varjoiselta kujalta tunkeutuvat osaksi suomalaisten tunnemaisemaa. \nEsiintyjät: Seppo Hovi\, Hannu Lehtonen ja Jarno Kuusisto\nKesto noin 2 h\, sis. väliajan\nLiput alk. 25\,00€\, sis. käsittelykulun
URL:https://mikaeli.fi/event/viaton-50-luku-tapahtuma-siirtynyt/
CATEGORIES:Musiikki,Tapahtuma
END:VEVENT
END:VCALENDAR