BEGIN:VCALENDAR
VERSION:2.0
PRODID:-//Konsertti- ja kongressitalo Mikaeli - Suomen kiinnostavin tapahtumatalo - ECPv6.10.1.1//NONSGML v1.0//EN
CALSCALE:GREGORIAN
METHOD:PUBLISH
X-ORIGINAL-URL:https://mikaeli.fi
X-WR-CALDESC:Events for Konsertti- ja kongressitalo Mikaeli - Suomen kiinnostavin tapahtumatalo
REFRESH-INTERVAL;VALUE=DURATION:PT1H
X-Robots-Tag:noindex
X-PUBLISHED-TTL:PT1H
BEGIN:VTIMEZONE
TZID:Europe/Helsinki
BEGIN:DAYLIGHT
TZOFFSETFROM:+0200
TZOFFSETTO:+0300
TZNAME:EEST
DTSTART:20220327T010000
END:DAYLIGHT
BEGIN:STANDARD
TZOFFSETFROM:+0300
TZOFFSETTO:+0200
TZNAME:EET
DTSTART:20221030T010000
END:STANDARD
END:VTIMEZONE
BEGIN:VEVENT
DTSTART;TZID=Europe/Helsinki:20220706T100000
DTEND;TZID=Europe/Helsinki:20220706T170000
DTSTAMP:20260424T220749
CREATED:20220502T132220Z
LAST-MODIFIED:20220502T132259Z
UID:1720-1657101600-1657126800@mikaeli.fi
SUMMARY:Päämajasymposium
DESCRIPTION:Suomen turvallisuuspoliittinen asema ja sotilaallinen varautuminen. \nMannerheim-luento: Maanpuolustuskorkeakoulun apulaisprofessori Mikko Karjalainen. \nVapaa pääsy! \nOhjelma
URL:https://mikaeli.fi/event/paamajasymposium/
CATEGORIES:Tapahtuma
ATTACH;FMTTYPE=image/jpeg:https://mikaeli.fi/wp-content/uploads/2022/05/paamajasymposium.jpg
END:VEVENT
BEGIN:VEVENT
DTSTART;TZID=Europe/Helsinki:20220706T163000
DTEND;TZID=Europe/Helsinki:20220706T170000
DTSTAMP:20260424T220749
CREATED:20220502T132624Z
LAST-MODIFIED:20220502T132734Z
UID:1724-1657125000-1657126800@mikaeli.fi
SUMMARY:RAKKAUDELLA PUOLASTA
DESCRIPTION:Equilibrium -jousikvartetti \n Joseph Haydn: Jousikvartetto Op. 64 nro 2 h-molli \nJózef Elsner: Jousikvartetto Op.8 nro 2 Es-duuri \nWładysław Żeleński: Jousikvartetto Op. 28 nro 1 F-duuri \nPuolalainen Equilibrium -jousikvartetti on erikoistunut klassismin ajan musiikkiin\, sekä puolalaisten säveltäjien teoksiin\, joita ei kovin usein pääse Suomessa kuulemaan. Haydnin jousikvarteton kepeistä tunnelmista siirrytään Elsnerin kvartettoon\, joka on sävelletty Lvivin kaupungissa Ukrainassa\, jossa säveltäjä asui 1792-99. Konsertin toisella puoliajalla kuullaan vaikuttava Żeleńskin jousikvartetto op. 28 nro 1\, jonka ensilevytyksen Equilibrium teki vuonna 2021. \nKamarimusiikkisali\nKesto 1h 35min sis. väliajan \nLiput 30€ / lapset/opiskelijat 20€ / Päivälippu 140/110€ (sis. toim.kulut)\n*Päivälippu sisältää päivä- ja iltakonsertit. Osta päivälippu 6.7. \nJärj. Mikkelin Musiikkijuhlat\nJärjestäjä vastaa tapahtuman lipunmyynnistä\, yhteystiedot löydät täältä.
URL:https://mikaeli.fi/event/rakkaudella-puolasta/
CATEGORIES:Musiikki,Tapahtuma
END:VEVENT
BEGIN:VEVENT
DTSTART;TZID=Europe/Helsinki:20220706T190000
DTEND;TZID=Europe/Helsinki:20220706T190000
DTSTAMP:20260424T220749
CREATED:20220502T133251Z
LAST-MODIFIED:20220531T071400Z
UID:1729-1657134000-1657134000@mikaeli.fi
SUMMARY:HELPPO NAKKI\, PJOTR
DESCRIPTION:LOPPUUNMYYTY! \nLontoon Philharmonia\, johtaa Santtu-Matias Rouvali\nPekka Kuusisto\, viulu\nPjotr Tšaikovski: Viulukonsertto\nLudvig van Beethoven: Sinfonia nro 5 \nKuten konsertin nimestä voi päätellä\, on Tšaikovskin viulukonsertto solistilleen Pekka Kuusistolle helppo nakki. Sitä se ei kuitenkaan ollut Leopold Auerille\, yhdelle 1800-luvun suurista viulisteista\, joka valitti Tšaikovskille ennen kantaesitystä\, että konsertto on mahdoton soittaa\, se on yksinkertaisesti liian vaikea. Konsertosta on sittemmin tullut yksi kaikkien aikojen rakastetuimmista sävellyksistä. Toinen ikiklassikko on illan päättävä Beethovenin viides sinfonia\, lisänimeltään ”Kohtalo”. Lontoon Philharmoniaa johtaa ylikapellimestari Santtu-Matias Rouvali. \n____________________________________ \nTämän konsertin yhteydessä voit nauttia kolmen ruokalajin Musiikkijuhlamenun Frans & Michellessä. Kattaukset klo 16 ja klo 22. Pöytävaraukset Osuuskauppa Suur-Savon myyntipalvelusta: p. 010 764 2000 (8\,35 snt/puh + 12\,09 snt/min) tai sähköpostilla sales.suur-savo@sok.fi \nMUSIIKKIJUHLAMENU 59 €/hlö – hinta sama aikuinen / lapsi \nKylmäsavulohta ja chilimarinoituja muikkuja (L\, G)\n**\nHauhalan hanhea (L\, G)\n• Ohrakaalikääryle\n• Grillattua selleriä \n**\nRaparperia\, mansikkaa ja vaniljaa (L\, G) \n____________________________________ \nMartti Talvela -sali\nKesto 2h sis. väliajan \nLiput 119€ / lapset/opiskelijat 99€ / Päivälippu 140/110€ (sis. toim.kulut)\n*Päivälippu sisältää päivä- ja iltakonsertit. Osta päivälippu 6.7. \nJärj. Mikkelin Musiikkijuhlat\nJärjestäjä vastaa tapahtuman lipunmyynnistä\, yhteystiedot löydät täältä.
URL:https://mikaeli.fi/event/helppo-nakki-pjotr/
CATEGORIES:Musiikki,Tapahtuma
END:VEVENT
END:VCALENDAR