BEGIN:VCALENDAR
VERSION:2.0
PRODID:-//Konsertti- ja kongressitalo Mikaeli - Suomen kiinnostavin tapahtumatalo - ECPv6.10.1.1//NONSGML v1.0//EN
CALSCALE:GREGORIAN
METHOD:PUBLISH
X-ORIGINAL-URL:https://mikaeli.fi
X-WR-CALDESC:Events for Konsertti- ja kongressitalo Mikaeli - Suomen kiinnostavin tapahtumatalo
REFRESH-INTERVAL;VALUE=DURATION:PT1H
X-Robots-Tag:noindex
X-PUBLISHED-TTL:PT1H
BEGIN:VTIMEZONE
TZID:Europe/Helsinki
BEGIN:DAYLIGHT
TZOFFSETFROM:+0200
TZOFFSETTO:+0300
TZNAME:EEST
DTSTART:20220327T010000
END:DAYLIGHT
BEGIN:STANDARD
TZOFFSETFROM:+0300
TZOFFSETTO:+0200
TZNAME:EET
DTSTART:20221030T010000
END:STANDARD
END:VTIMEZONE
BEGIN:VEVENT
DTSTART;TZID=Europe/Helsinki:20220707T163000
DTEND;TZID=Europe/Helsinki:20220707T170000
DTSTAMP:20260424T220748
CREATED:20220502T133654Z
LAST-MODIFIED:20220502T133654Z
UID:1733-1657211400-1657213200@mikaeli.fi
SUMMARY:LAULUJA SIELULLE
DESCRIPTION:Equilibrium -jousikvartetti ja Adam Baldych\, viulu \nHenryk Mikołaj Górecki: Jousikvartetto nro 3 (“songs are sung”) (50’) \nAdam Bałdych – Home Songbook (40’) \nKonsertti alkaa Henryk Góreckin syvällisellä ja meditatiivisella jousikvartetolla nro 3\, jonka lisänimeksi säveltäjä antoi ”Songs Are Sung” eli suomeksi ”Laulut on laulettu”. Melankolia ja suru kuuluu jokaisessa sävelessä\, mutta jollain ihmeellisellä tavalla kvartetto tuo myös lohdutuksen tunteen; kuin vakuutuksen siitä\, että ihmisen sielu on kuolematon. Toisella puoliajalla kuultava teos on jazzmusiikin puolella kuuluisuutta saaneen viuluvirtuoosi Adam Baldychin teoskokonaisuus ”Home Songbook”. Teos on syntynyt puolalaisten kansansävelmien ja melodioiden pohjalta improvisoiden. Säveltäjä itse soittaa ja improvisoi mukana. \nKamarimusiikkisali\nKesto 1h 50min sis. väliajan \nLiput 30€ / lapset/opiskelijat 20€ / Päivälippu 140/110€ (sis. toim.kulut)\n*Päivälippu sisältää päivä- ja iltakonsertit. Osta päivälippu 7.7. \nJärj. Mikkelin Musiikkijuhlat\nJärjestäjä vastaa tapahtuman lipunmyynnistä\, yhteystiedot löydät täältä.
URL:https://mikaeli.fi/event/lauluja-sielulle/
CATEGORIES:Musiikki,Tapahtuma
END:VEVENT
BEGIN:VEVENT
DTSTART;TZID=Europe/Helsinki:20220707T190000
DTEND;TZID=Europe/Helsinki:20220707T190000
DTSTAMP:20260424T220748
CREATED:20220502T134042Z
LAST-MODIFIED:20220531T071422Z
UID:1736-1657220400-1657220400@mikaeli.fi
SUMMARY:SOITTAA KUIN RUUNEPERI
DESCRIPTION:Lontoon Philharmonia\, johtaa Santtu-Matias Rouvali\nBruce Liu\, piano Varsovan Chopin -kilpailun voittaja 2021\nFrédéric Chopin: Pianokonsertto nro 2\nPjotr Tšaikovski: Sinfonia nro 5 \nViime vuoden tärkeimmän pianokilpailun\, Varsovan Chopin -kilpailun voittaja Bruce Liu debytoi Suomessa. Konsertissa kuullaan pianon runoilijaksi usein kutsutun Frédéric Chopinin toinen pianokonsertto. Tšaikovskin rakastettu viides sinfonia päättää Lontoon Philharmonian ensivierailun Mikkelin Musiikkijuhlille. \n____________________________________ \nTämän konsertin yhteydessä voit nauttia kolmen ruokalajin Musiikkijuhlamenun Frans & Michellessä. Kattaukset klo 16 ja klo 22. Pöytävaraukset Osuuskauppa Suur-Savon myyntipalvelusta: p. 010 764 2000 (8\,35 snt/puh + 12\,09 snt/min) tai sähköpostilla sales.suur-savo@sok.fi \nMUSIIKKIJUHLAMENU 59 €/hlö – hinta sama aikuinen / lapsi \nKylmäsavulohta ja chilimarinoituja muikkuja (L\, G)\n**\nHauhalan hanhea (L\, G)\n• Ohrakaalikääryle\n• Grillattua selleriä \n**\nRaparperia\, mansikkaa ja vaniljaa (L\, G) \n____________________________________ \nMartti Talvela -sali\nKesto 2h sis. väliajan \nLiput 119€ / lapset/opiskelijat 99€ / Päivälippu 140/110€ (sis. toim.kulut)\n*Päivälippu sisältää päivä- ja iltakonsertit. Osta päivälippu 7.7. \nJärj. Mikkelin Musiikkijuhlat\nJärjestäjä vastaa tapahtuman lipunmyynnistä\, yhteystiedot löydät täältä.
URL:https://mikaeli.fi/event/soittaa-kuin-ruuneperi/
CATEGORIES:Musiikki,Tapahtuma
END:VEVENT
END:VCALENDAR