BEGIN:VCALENDAR
VERSION:2.0
PRODID:-//Konsertti- ja kongressitalo Mikaeli - Suomen kiinnostavin tapahtumatalo - ECPv6.10.1.1//NONSGML v1.0//EN
CALSCALE:GREGORIAN
METHOD:PUBLISH
X-ORIGINAL-URL:https://mikaeli.fi
X-WR-CALDESC:Events for Konsertti- ja kongressitalo Mikaeli - Suomen kiinnostavin tapahtumatalo
REFRESH-INTERVAL;VALUE=DURATION:PT1H
X-Robots-Tag:noindex
X-PUBLISHED-TTL:PT1H
BEGIN:VTIMEZONE
TZID:Europe/Helsinki
BEGIN:DAYLIGHT
TZOFFSETFROM:+0200
TZOFFSETTO:+0300
TZNAME:EEST
DTSTART:20220327T010000
END:DAYLIGHT
BEGIN:STANDARD
TZOFFSETFROM:+0300
TZOFFSETTO:+0200
TZNAME:EET
DTSTART:20221030T010000
END:STANDARD
END:VTIMEZONE
BEGIN:VEVENT
DTSTART;TZID=Europe/Helsinki:20220908T190000
DTEND;TZID=Europe/Helsinki:20220908T190000
DTSTAMP:20260424T190056
CREATED:20220907T081426Z
LAST-MODIFIED:20220907T081517Z
UID:2194-1662663600-1662663600@mikaeli.fi
SUMMARY:SAIMAA SINFONIETTA – RUNOJA JA RAUNIOITA
DESCRIPTION:to 8.9.2022 klo 19\, Mikaeli \nErkki Lasonpalo\, kapellimestari\nMackenzie Melemed\, piano \nLotta Wennäkoski: Ulapasta\nDmitri Šostakovitš: Pianokonsertto nro 2\nFelix Mendelssohn: Sinfonia nro 3 ”Skottilainen” \nMackenzie Melemed voitti vuoden 2017 Maj Lind –pianokilpailun ja syövytti itsensä syvälle suomalaisten sydämiin: hän soitti tekniikka ja tulkinta täydellisessä tasapainossa\, säteili lavakarismaa ja vieläpä tunnustautui Suomi-faniksi antaen haastattelunsa suomeksi. Kiertämistä tuhansien järvien maassa onkin sen jälkeen riittänyt ja nyt Melemed palaa Saimaa Sinfoniettan solistiksi tuomisinaan varsin poikkeuksellinen moderni klassikko: Dmitri Šostakovitš nimittäin sävelsi toinen pianokonserttonsa 19-vuotiaan Maksim-poikansa soitettavaksi. Harvinaisen hyväntuulinen ja humoristinen teos pirskahteleekin nuoruuden viatonta intoa ja oikukkaita päähänpistoja niin hersyvästi\, että sen ketterää menoa on kuultu jopa Disneyn Fantasia 2000 –elokuvassa. \nSyksyn avauskonsertissa konsertto saa kuitenkin ympärilleen vastapainoksi vakavia ja vaateliaitakin sävyjä. Felix Mendelssohn vieraili Britannian-kiertueensa yhteydessä Skotlannissa ja vaikuttui syvästi maan jylhistä nummista\, sumuisista vuorista ja kolkoista rauniolinnoista – mitäpä muutakaan näistä syntyi kuin kokoaan suurempi sinfonia. Lotta Wennäkoski taas on vaikuttunut vähintään yhtä voimallisesti runoilija Johanna Venhon dramaattisista ja riipivistä runosäkeistä\, joiden pohjalle ajatuksia herättävä ”Ulapasta”-orkesteriteos on rakennettu. \nErkki Lasonpalo sitoo niin runot ja rauniot kuin hauskanpidonkin yhdeksi saumattomaksi kokonaisuudeksi – koko elämän kirjoksi – ja tarjoaa siten voimaannuttavan energia-annoksen pimeneviin syysiltoihin \nLIPUT: 30 € / 27 € / 12 €\nHINTA S-ETUKORTILLA 27 € / 24 € / 9 € \nLipunmyynnistä vastaa Mikkelin Kaupunginorkesteri\nYhteystiedot: https://mikkelinkaupunginorkesteri.fi/yhteystiedot/
URL:https://mikaeli.fi/event/saimaa-sinfonietta-runoja-ja-raunioita/
CATEGORIES:Musiikki,Tapahtuma
END:VEVENT
END:VCALENDAR