BEGIN:VCALENDAR
VERSION:2.0
PRODID:-//Konsertti- ja kongressitalo Mikaeli - Suomen kiinnostavin tapahtumatalo - ECPv6.10.1.1//NONSGML v1.0//EN
CALSCALE:GREGORIAN
METHOD:PUBLISH
X-ORIGINAL-URL:https://mikaeli.fi
X-WR-CALDESC:Events for Konsertti- ja kongressitalo Mikaeli - Suomen kiinnostavin tapahtumatalo
REFRESH-INTERVAL;VALUE=DURATION:PT1H
X-Robots-Tag:noindex
X-PUBLISHED-TTL:PT1H
BEGIN:VTIMEZONE
TZID:Europe/Helsinki
BEGIN:DAYLIGHT
TZOFFSETFROM:+0200
TZOFFSETTO:+0300
TZNAME:EEST
DTSTART:20220327T010000
END:DAYLIGHT
BEGIN:STANDARD
TZOFFSETFROM:+0300
TZOFFSETTO:+0200
TZNAME:EET
DTSTART:20221030T010000
END:STANDARD
END:VTIMEZONE
BEGIN:VEVENT
DTSTART;TZID=Europe/Helsinki:20221013T180000
DTEND;TZID=Europe/Helsinki:20221013T180000
DTSTAMP:20260424T172828
CREATED:20220907T091759Z
LAST-MODIFIED:20220922T120149Z
UID:2225-1665684000-1665684000@mikaeli.fi
SUMMARY:LASTENMUSIIKKIKONSERTTI AMMUU!
DESCRIPTION:LASTENMUSIIKKIKONSERTTI Ammuu!\nto 13.10.2022 klo 18\, Mikaeli \nVuonna 2007 perustettu Lastenmusiikkiorkesteri Ammuu! on uuden suomalaisen lastenmusiikin lippulaiva. Yhtyeen akustinen sointi ja upea stemmalaulu\, pedagoginen ote sekä taidokas esiintyminen ovat tehneet vaikutuksen niin Emma-palkintoraatiin\, musiikkikasvatusväkeen kuin kymmeniin tuhansiin lapsiin kautta maan. Tällä kertaa Ammuu! yhdistää voimansa Mikkelin kaupunginorkesterin kanssa\, ja luvassa on kokonaisvaltainen konserttielämys koko perheelle. Konsertissa kuullaan suosikkeja Ammuun! monipuolisesta tuotannosta. Sovitukset kamariorkesterille on tehnyt Esko Elias Grundström. Saa laulaa ja leikkiä mukana! \nLastenmusiikkiorkesteri Ammuu!:\nHanna-Maija Aarnio: Lehmä – kellopeli\, viulu\, laulu\nSara Puljula: Piippolan Saara – lyömäsoittimet\, laulu\nRiikka Helske: Hiiri – kantele\, laulu\nEssi Putkonen: Kissa – viulu\, laulu\nTero Pajunen: Heppa – kitara\, laulu\nHeidi Tamper: Possu – puhallinsoittimet\, laulu \nLIPUT: 10 € (perhelippu samassa taloudessa asuvilta 35 €)\nHINTA S-ETUKORTILLA 8 € (perhelippu 30 €) \nLipunmyynnistä vastaa Mikkelin Kaupunginorkesteri\nYhteystiedot: https://mikkelinkaupunginorkesteri.fi/yhteystiedot/
URL:https://mikaeli.fi/event/lastenmusiikkikonsertti-ammuu/
CATEGORIES:Lapset ja nuoret,Musiikki,Tapahtuma
END:VEVENT
END:VCALENDAR