BEGIN:VCALENDAR
VERSION:2.0
PRODID:-//Konsertti- ja kongressitalo Mikaeli - Suomen kiinnostavin tapahtumatalo - ECPv6.10.1.1//NONSGML v1.0//EN
CALSCALE:GREGORIAN
METHOD:PUBLISH
X-WR-CALNAME:Konsertti- ja kongressitalo Mikaeli - Suomen kiinnostavin tapahtumatalo
X-ORIGINAL-URL:https://mikaeli.fi
X-WR-CALDESC:Events for Konsertti- ja kongressitalo Mikaeli - Suomen kiinnostavin tapahtumatalo
REFRESH-INTERVAL;VALUE=DURATION:PT1H
X-Robots-Tag:noindex
X-PUBLISHED-TTL:PT1H
BEGIN:VTIMEZONE
TZID:Europe/Helsinki
BEGIN:DAYLIGHT
TZOFFSETFROM:+0200
TZOFFSETTO:+0300
TZNAME:EEST
DTSTART:20220327T010000
END:DAYLIGHT
BEGIN:STANDARD
TZOFFSETFROM:+0300
TZOFFSETTO:+0200
TZNAME:EET
DTSTART:20221030T010000
END:STANDARD
END:VTIMEZONE
BEGIN:VEVENT
DTSTART;TZID=Europe/Helsinki:20221015T190000
DTEND;TZID=Europe/Helsinki:20221015T190000
DTSTAMP:20260424T172831
CREATED:20210621T092108Z
LAST-MODIFIED:20221007T084402Z
UID:323-1665860400-1665860400@mikaeli.fi
SUMMARY:Suvi Teräsniska -Ihmisen poika
DESCRIPTION:Tapahtuma on siirtynyt\, edellinen ajankohta 1.10.2021.  Jo ostetut liput käyvät sellaisenaan uuteen ajankohtaan. Mikäli uusi ajankohta ei sovi\, voit hakea palautusta lipuista 10.10.2021 mennessä\, ohjeet palautukseen löydät täältä. \nSUVI TERÄSNISKAN IHMISEN POIKA -KIERTUE SIIRTYY SYKSYLLE 2021 – MUKANA MYÖS UUSIA PAIKKAKUNTIA \nSuvi Teräsniskan toivottu Ihmisen poika -konserttisalikiertue siirtyy syksyyn 2021. Hän julkaisi vuoden 2019 elokuussa oman versionsa Yö-yhtyeen koskettavasta kappaleesta Ihmisen poika. Kappale oli Suvin edesmenneelle ystävälle ja mentorille Olli Lindholmille erityisen rakas. \n–Minulta on kovasti toivottu keikoille Yön kappaleita. Siksi päätin myös surutyönä itselleni tehdä kiertueen\, jolla esitän minulle rakkaita Yön lauluja. Saan samalla itsekin purkaa ikävääni laulamalla ja kertomalla omia tarinoitani Yö-yhtyeen musiikista ja sen merkityksestä elämääni. Kiertueella haluan kunnioittaa itselleni rakkaita ihmisiä Yö-yhtyeen taipaleen varrelta. Matkan varrelle on mahtunut myös paljon hyviä ja iloisia asioita\, joten toivon että konserteissa ei pelkästään vellota surussa vaan voidaan myös nauraa\, Suvi sanoo. \nKoskettavana tulkitsijana tunnetun Suvi Teräsniskan kaikki albumit ovat myyneet vähintään platinaa ja yhteensä hänen levyjään on myyty lähes puoli miljoonaa kappaletta. \nLiput alk. 37\,50 € \nSuvi haluaa olla mukana auttamassa vähävaraisia lapsia ja lapsiperheitä\, joten siksi osa lipputuotoista menee Hope ry:n toiminnan ja erityisesti pienten lasten tukemiseen. \nKonsertin kesto n. 2 tuntia\, sisältäen väliajan. \nJärj. Warner Music Live \n  \nKonserttielämyksen kruunaa herkullinen ruokailuhetki ennen konserttia Gastropub Einossa.\nPöytävaraukset Osuuskauppa Suur-Savon Myyntipalvelusta: p. 010 764 2000 (8\,35 snt/puh + 12\,09 snt/min) tai sähköpostilla sales.suur-savo@sok.fi \nSuosittelemme ruokailuun:\nPaikallisia juustoja (L)\n– Kappelin juustolan juustoja \nPaikallista kalaa (L\,G)\n– Kera kasviksien \nEinon suklaakakkua (L\,G)\n– Suklainen herkku kera pähkinöiden \nMenun hinta 48 € / hlö \nTAI\n\nPuumalan kylmäsavulohta (L\,G)\n– Puumalan kylmäsavulohta & Saimaa leipää \nEinon pihvi (L\,G)\n– Kunnon sisäfilepihvi\, kasviksia \nKinuskia & mustaherukkaa (L\,G)\n– Kinuskikakkua & mustaherukkaa \nMenun hinta 54 € / hlö
URL:https://mikaeli.fi/event/suvi-terasniska-ihmisen-poika/
CATEGORIES:Musiikki,Tapahtuma
END:VEVENT
END:VCALENDAR