BEGIN:VCALENDAR
VERSION:2.0
PRODID:-//Konsertti- ja kongressitalo Mikaeli - Suomen kiinnostavin tapahtumatalo - ECPv6.10.1.1//NONSGML v1.0//EN
CALSCALE:GREGORIAN
METHOD:PUBLISH
X-WR-CALNAME:Konsertti- ja kongressitalo Mikaeli - Suomen kiinnostavin tapahtumatalo
X-ORIGINAL-URL:https://mikaeli.fi
X-WR-CALDESC:Events for Konsertti- ja kongressitalo Mikaeli - Suomen kiinnostavin tapahtumatalo
REFRESH-INTERVAL;VALUE=DURATION:PT1H
X-Robots-Tag:noindex
X-PUBLISHED-TTL:PT1H
BEGIN:VTIMEZONE
TZID:Europe/Helsinki
BEGIN:DAYLIGHT
TZOFFSETFROM:+0200
TZOFFSETTO:+0300
TZNAME:EEST
DTSTART:20220327T010000
END:DAYLIGHT
BEGIN:STANDARD
TZOFFSETFROM:+0300
TZOFFSETTO:+0200
TZNAME:EET
DTSTART:20221030T010000
END:STANDARD
END:VTIMEZONE
BEGIN:VEVENT
DTSTART;TZID=Europe/Helsinki:20221021T170000
DTEND;TZID=Europe/Helsinki:20221028T233000
DTSTAMP:20260424T172832
CREATED:20221012T103328Z
LAST-MODIFIED:20221012T104040Z
UID:2470-1666371600-1666999800@mikaeli.fi
SUMMARY:Valonlampi
DESCRIPTION:Kulttuurin unelmavuosi häikäisee syyslomaviikolla \n  \nValonlampi-valotapahtuma valaisee Mikaelin ja Pankalammen ympäristöä syyslomaviikolla 21.-28.10. Valonlampi käynnistyy perjantaina 21.10. nuorten Syysbreikki-tapahtuman yhteydessä. Mikaelin valot syttyvät klo 17 ja valoinstallaatiot syttyvät ympäri Pankalampea klo 18. \nMikaelin ulkopinnalla nähdään Jääluola-valoinstallaatio\, jonka keskeyttää puolen tunnin välein Vuodenajat-valoinstallaatio. Mikaelin seinässä nähdään myös osallistava Just Dance -videoteos\, jossa yhdistyy viimeisin projisointiteknologia\, 3D-hahmosuunnittelu\, tanssipelin koukuttavuus ja jo kivikaudelta suosittu varjoleikki. \nMikaelin lisäksi Pankalammen ympäristö herää eloon useamman valoinstallaation voimin. Perjantaina Mikaelin pihalla nähdään Yhteinen planeettamme -teos\, jossa massiivisten valokiilojen rengas heijastetaan suoraan avaruuteen. Erittäin voimakkaiden Beam -heittimien show näkyy oikeissa olosuhteissa kilometrien päähän ja kiilat piirtävät taivaalle valovoimaisen “viestin” yhteiseltä planeetaltamme. Tulen virta -teos toivottaa vaeltajat tervetulleeksi kaupungin suunnasta. Joen väreilevä pinta ja rannat muuttuu hehkuvaksi tulimereksi. Viidakko -teos luo taianomaisen\, vihreän\, oranssin ja punaisen sävyissä hehkuva sademetsän lammen puoleisen sillan kupeeseen. Pankalammen länsirannalla oleva silta valaistaan kaikissa sateenkaaren väreissä Sateenkaarisilta -teoksella. Teokset lukuun ottamatta Just dancea ja Yhteistä planeettaa ovat perjantain lisäksi ihasteltavissa myös lauantaina 22.10. \nSunnuntaista eteenpäin Mikaeli hehkuu joka ilta aina Museoiden yöhön 28.10. saakka. Silloin valon ilo leviää myös kaupunkiin\, valaisten Museoiden yön kohteita. Valaistuna ovat Suur-Savon museo\, Sodan ja rauhan keskus Muisti ja Päämajamuseo sekä Mikkelin valokuvakeskus. \n\nValotaideteoksilla haluamme korostaa kaupungissamme ainutlaatuisesti yhdistyvää luontoa ja urbaania kaupunkikuvaa. Nykyaikaisen teknologian avulla pystymme viemään elämyksiä aivan uusille tasoille\, joita ei voi sanoin selittää – ne on itse koettava! kertoo mikkeliläisen tapahtumatuotantoyhtiö Lumion valosuunnittelija Janne Pajarinen.\n\nValotapahtuman mahdollistaa Kulttuurin unelmavuosi 2022 –hanke. Suunnittelun ja tapahtuman teokset toteuttavat Lumio Events\, Gaia Music\, 3Dbase ja OiOi. \n  \npe 21.10. \nKlo 17-23 Mikaeli \nKlo 18-22 Yhteinen planeettamme \nKlo 18-23 Just Dance\, Tulenvirta\, Sateenkaarisilta\, Viidakko \n  \nla 22.10.  \nKlo 18-23 Tulenvirta\, Sateenkaarisilta\, Viidakko\, Mikaeli \n  \nsu-to 23.–27.10.  \nKlo 18-23  Mikaeli \n  \npe 28.10.  \nKlo 18-23.30 Mikaeli\, sodan ja rauhan keskus Muisti\, Suur-Savon museo\, Mikkelin Valokuvakeskus \n  \nKulttuurin unelmavuoden tavoitteina ovat kulttuurin saatavuuden ja saavutettavuuden lisääminen\, kulttuuri-\, taide- ja tapahtuma-alan tekijöiden työllistäminen sekä hyvinvoinnin lisääminen alueella. Hanke edistää kokonaisvaltaisesti sosiaalista\, kulttuurista ja taloudellista kestävyyttä. Hankkeen rahoittavat Etelä-Savon maakuntaliitto Euroopan aluekehitysrahastosta sekä Mikkelin kaupunki. \n  \nLue lisää: https://kulttuurinunelmavuosi.fi/valonlampi/ \nFacebook: https://fb.me/e/39O6bRvhS \n  \nLisätietoja \nJatta Juhola \nHankepäällikkö \njatta.juhola@sivistys.mikkeli.fi \n\n040 129 5157\n\n  \nNiko Väisänen \nLumio Events \nniko@lumio.fi \n\n044 535 1902
URL:https://mikaeli.fi/event/valonlampi/
CATEGORIES:Tapahtuma
END:VEVENT
BEGIN:VEVENT
DTSTART;TZID=Europe/Helsinki:20221022T190000
DTEND;TZID=Europe/Helsinki:20221022T190000
DTSTAMP:20260424T172832
CREATED:20210621T103323Z
LAST-MODIFIED:20210920T101033Z
UID:348-1666465200-1666465200@mikaeli.fi
SUMMARY:Ressu Redford
DESCRIPTION:Tapahtuma on siirtynyt\, edellinen ajankohta 15.10.2021. Jo ostetut liput käyvät uuteen ajankohtaan sellaisenaan. Mikäli uusi päivä ei kuitenkaan sovi\, voit hakea lippurahojen palautusta 17.10.2021 mennessä osoitteessa web.lippu.fi/palautus \n  \nRESSU REDFORD LÄHTEE SYKSYLLÄ KONSERTTISALIKIERTUEELLE \nViime vuoden Vain Elämää -kaudella yleisöä hurmannut Ressu Redford lähtee syksyllä konserttisalikiertueelle. Yhdentoista paikkakunnan kiertue alkaa 15. lokakuuta Mikkelistä ja päättyy marraskuun lopussa Turun Logomoon. Konserteissa yleisö pääsee nauttimaan Ressun tuotannosta vuosien varrelta sillä luvassa on sekä vanhoja klassikoita että uudempaa tuotantoa. \n– Salikiertueellani tullaan kuulemaan koko tuotantoani sieltä kasarin puolelta aina näihin päiviin asti. Luvassa on paljon suomenkielistä materiaalia mutta mukana on tietysti myös joitakin Bogart Co. ja Sound Of R.E.L.S. ajan kappaleita. Kattava kokonaisuus on siis tulossa: tuttuja klassikoita\, hittejä ja minulle oleellisia poimintoja matkan varrelta. Musiikki kulkee akustisesta tunnelmoinnista tämän päivän soundiin\, Ressu lupaa. \nRessu Redford teki paluun soolomusiikin pariin vuoden 2019 alussa. Artistin kaikkien aikojen tunnetuimpiin kappaleisiin lukeutuvat muun muassa klassikkohitit Älä mee\, Kuka on se oikea ja Kuusi kuuta & Saturnuksen renkaat. Yleisö on löytänyt myös uudet kappaleet: Viimeinen päivä -single on ylittänyt kuunteluillaan kultarajan ja samaa rajapyykkiä reilulla 1\,5 miljoonalla kuuntelukerralla lähenee myös viime keväänä julkaistu kesäbiisi Corolla. Edellisellä Vain Elämää -kaudella hurmannut Ressu Redford julkaisi helmikuussa uuden singlen Pieni askel. \nMartti Talvela -sali \nLipun hinta: \nRivit 1-8 : 39\,90€ (sis.palvelumaksu)\nLoput rivit: 35\,90 € (sis.palvelumaksu) \nJärj. Warner Music Live
URL:https://mikaeli.fi/event/ressu-redford/
CATEGORIES:Musiikki,Tapahtuma
END:VEVENT
END:VCALENDAR