BEGIN:VCALENDAR
VERSION:2.0
PRODID:-//Konsertti- ja kongressitalo Mikaeli - Suomen kiinnostavin tapahtumatalo - ECPv6.10.1.1//NONSGML v1.0//EN
CALSCALE:GREGORIAN
METHOD:PUBLISH
X-ORIGINAL-URL:https://mikaeli.fi
X-WR-CALDESC:Events for Konsertti- ja kongressitalo Mikaeli - Suomen kiinnostavin tapahtumatalo
REFRESH-INTERVAL;VALUE=DURATION:PT1H
X-Robots-Tag:noindex
X-PUBLISHED-TTL:PT1H
BEGIN:VTIMEZONE
TZID:Europe/Helsinki
BEGIN:DAYLIGHT
TZOFFSETFROM:+0200
TZOFFSETTO:+0300
TZNAME:EEST
DTSTART:20220327T010000
END:DAYLIGHT
BEGIN:STANDARD
TZOFFSETFROM:+0300
TZOFFSETTO:+0200
TZNAME:EET
DTSTART:20221030T010000
END:STANDARD
END:VTIMEZONE
BEGIN:VEVENT
DTSTART;TZID=Europe/Helsinki:20221030T140000
DTEND;TZID=Europe/Helsinki:20221030T170000
DTSTAMP:20260424T172830
CREATED:20220519T075842Z
LAST-MODIFIED:20220712T123252Z
UID:1788-1667138400-1667149200@mikaeli.fi
SUMMARY:Hevisaurus
DESCRIPTION:Viiden dinosauruksen muodostama lasten suosikkiyhtye Hevisaurus syntyi vuonna 2009 ajatuksesta tehdä laadukasta hevimusiikkia lapsille ja lapsenmielisille. Räyhäkäs lastenheviyhtye on julkaissut kotimaassa seitsemän studioalbumia\, joita on myyty 178 000. ”Mikä minusta tulee isona” –nimeä kantava albumi julkaistaan 1. syyskuuta. Hevisaurus on voittanut parhaan lastenmusiikin Emman kahdesti. \nLIPUT:\nPeruslippu 28\,00€\nPerhelippu 2 lasta + 2 aikuista 100€\nPerhelippu 3 lasta + 2 aikuista 122\,50€ \n 
URL:https://mikaeli.fi/event/hevisaurus/
CATEGORIES:Lapset ja nuoret,Musiikki,Tapahtuma
END:VEVENT
END:VCALENDAR