BEGIN:VCALENDAR
VERSION:2.0
PRODID:-//Konsertti- ja kongressitalo Mikaeli - Suomen kiinnostavin tapahtumatalo - ECPv6.10.1.1//NONSGML v1.0//EN
CALSCALE:GREGORIAN
METHOD:PUBLISH
X-ORIGINAL-URL:https://mikaeli.fi
X-WR-CALDESC:Events for Konsertti- ja kongressitalo Mikaeli - Suomen kiinnostavin tapahtumatalo
REFRESH-INTERVAL;VALUE=DURATION:PT1H
X-Robots-Tag:noindex
X-PUBLISHED-TTL:PT1H
BEGIN:VTIMEZONE
TZID:Europe/Helsinki
BEGIN:DAYLIGHT
TZOFFSETFROM:+0200
TZOFFSETTO:+0300
TZNAME:EEST
DTSTART:20220327T010000
END:DAYLIGHT
BEGIN:STANDARD
TZOFFSETFROM:+0300
TZOFFSETTO:+0200
TZNAME:EET
DTSTART:20221030T010000
END:STANDARD
END:VTIMEZONE
BEGIN:VEVENT
DTSTART;TZID=Europe/Helsinki:20221111T190000
DTEND;TZID=Europe/Helsinki:20221111T190000
DTSTAMP:20260424T125714
CREATED:20220126T085401Z
LAST-MODIFIED:20221007T184022Z
UID:1405-1668193200-1668193200@mikaeli.fi
SUMMARY:Danny 80 vuotta – Kunniakierroksella
DESCRIPTION:Danny täyttää 80 vuotta – mittava kunniakiertue ympäri Suomen käynnistyy syksyllä! \nSuomalaisen viihdemaailman legendoihin lukeutuva Ilkka ”Danny” Lipsanen lähtee syksyllä mittavalle kiertueelle juhlistaen samalla tulevaa 80-vuotissyntymäpäiväänsä. Kyseessä on Dannyn viimeinen koko Suomen kattava kiertue\, ja hän haluaa sen myötä kiittää kaikkia ihailijoitaan vuosien varrella saamastaan tuesta. \n– Edellisellä kiertueellani monet ihmiset tulivat juttelemaan kanssani ja kiittämään minua musiikistani ja luomastani show-perinteestä. Samalla sain toiveita pitää vielä joskus sellaisen konsertin\, joka keskittyisi pääasiassa omiin hitteihini vuosikymmenten varrelta – siis lauluihin\, jotka ovat jääneet suomalaiseen sielunmaisemaan. Juhlakiertueella näin tuleekin tapahtumaan ja luvassa ovat yleisön pyynnöstä kaikkien aikojen suurimmat hittini\, Danny kertoo. \nKonsertin kesto noin 2h (sis. väliajan) \nPeruslippu 59\,00 €\n– Ovet klo 18:00 \nMeet&Greet -lippu 119\,00 €\n– Aiempi sisäänpääsy tilaisuuteen klo 17:00\n– Danny 80 -vuotta Meet&Greet -passi\n– Konserttilahja nimikirjoituksella\n– Artistitapaaminen klo 17:00 alkavassa tilaisuudessa\n– Istumapaikat salin parhailta paikoilta \nJärjestäjä pidättää oikeuden aikataulu- ja ohjelmamuutoksiin \nKunniakierros-juhlakiertueen järjestää Loud n’ Live Promotions oy
URL:https://mikaeli.fi/event/danny-80-vuotta-kunniakierroksella-tulossa-myyntiin/
CATEGORIES:Musiikki,Tapahtuma
END:VEVENT
END:VCALENDAR