BEGIN:VCALENDAR
VERSION:2.0
PRODID:-//Konsertti- ja kongressitalo Mikaeli - Suomen kiinnostavin tapahtumatalo - ECPv6.10.1.1//NONSGML v1.0//EN
CALSCALE:GREGORIAN
METHOD:PUBLISH
X-WR-CALNAME:Konsertti- ja kongressitalo Mikaeli - Suomen kiinnostavin tapahtumatalo
X-ORIGINAL-URL:https://mikaeli.fi
X-WR-CALDESC:Events for Konsertti- ja kongressitalo Mikaeli - Suomen kiinnostavin tapahtumatalo
REFRESH-INTERVAL;VALUE=DURATION:PT1H
X-Robots-Tag:noindex
X-PUBLISHED-TTL:PT1H
BEGIN:VTIMEZONE
TZID:Europe/Helsinki
BEGIN:DAYLIGHT
TZOFFSETFROM:+0200
TZOFFSETTO:+0300
TZNAME:EEST
DTSTART:20220327T010000
END:DAYLIGHT
BEGIN:STANDARD
TZOFFSETFROM:+0300
TZOFFSETTO:+0200
TZNAME:EET
DTSTART:20221030T010000
END:STANDARD
END:VTIMEZONE
BEGIN:VEVENT
DTSTART;TZID=Europe/Helsinki:20221125T190000
DTEND;TZID=Europe/Helsinki:20221125T190000
DTSTAMP:20260424T142833
CREATED:20211202T115553Z
LAST-MODIFIED:20221122T113603Z
UID:1253-1669402800-1669402800@mikaeli.fi
SUMMARY:WALTTERI TORIKKA & L'ORCHESTRA DELLA SPERANZA - AMORE
DESCRIPTION:Waltteri Torikan konsertti 13.3.2022 Mikaelissa siirtyy. Uusi ajankohta on 25.11.2022 klo 19. Huomaa myös muuttunut kellonaika! Jo ostetut liput käyvät sellaisenaan uuteen ajankohtaan.\nMikäli uusi ajankohta ei sovi\, lippurahojen palautusta voi hakea 27.2.2022 mennessä linkistä: https://web.lippu.fi/palautus/ \nKonserttien ohjelmisto ammentaa tunnetuista sävelistä meiltä ja maailmalta. Luvassa on viihdeklassikoita\, italialaisia ja espanjalaisia sävelmiä\, elokuvamusiikin helmiä ja kauneimpia rakkauslauluja.\nAmore-konserteissa karismaattista baritonia säestää suomalaisista huippumuusikoista koostuva l’Orchestra della speranza -kokoonpano\, jota luotsaa Torikan pitkäaikainen yhteistyökumppani\, pianisti ja kapellimestari Marko Hilpo. \nWaltteri Torikka on Suomessa ja ulkomailla uraa luova ooppera- ja konserttilaulaja. Platinaa ja kultaa myyneitä albumeita sekä listaykkösiä julkaissut Torikka on esiintyjänä kotonaan yhtä lailla suurilla areenoilla kuin intiimeissä konserttisaleissa. Syksyllä 2021 Torikka tanssi itsensä Tanssii tähtien -kanssa ohjelman finaaliin ja yllätti Masked Singer -kilpailun toiselle sijalle nousseena Bilepandana. Loppuvuoden 2021 Waltteri Torikka konsertoi kirkoissa Natale – Oi jouluyö -kiertueen merkeissä. \nLiput alk. 38\,50€ \nKonsertin kesto noin 2h\, sisältää väliajan \nwww.warnermusiclive.fi/waltteritorikka \nSeuraa Waltteri Torikkaa somessa: \nwww.facebook.com/warnermusiclive\nwww.instagram.com/warnermusiclive/
URL:https://mikaeli.fi/event/waltteri-torikka-lorchestra-della-speranza-amore/
CATEGORIES:Musiikki,Tapahtuma
END:VEVENT
END:VCALENDAR