BEGIN:VCALENDAR
VERSION:2.0
PRODID:-//Konsertti- ja kongressitalo Mikaeli - Suomen kiinnostavin tapahtumatalo - ECPv6.10.1.1//NONSGML v1.0//EN
CALSCALE:GREGORIAN
METHOD:PUBLISH
X-WR-CALNAME:Konsertti- ja kongressitalo Mikaeli - Suomen kiinnostavin tapahtumatalo
X-ORIGINAL-URL:https://mikaeli.fi
X-WR-CALDESC:Events for Konsertti- ja kongressitalo Mikaeli - Suomen kiinnostavin tapahtumatalo
REFRESH-INTERVAL;VALUE=DURATION:PT1H
X-Robots-Tag:noindex
X-PUBLISHED-TTL:PT1H
BEGIN:VTIMEZONE
TZID:Europe/Helsinki
BEGIN:DAYLIGHT
TZOFFSETFROM:+0200
TZOFFSETTO:+0300
TZNAME:EEST
DTSTART:20220327T010000
END:DAYLIGHT
BEGIN:STANDARD
TZOFFSETFROM:+0300
TZOFFSETTO:+0200
TZNAME:EET
DTSTART:20221030T010000
END:STANDARD
END:VTIMEZONE
BEGIN:VEVENT
DTSTART;TZID=Europe/Helsinki:20221126T190000
DTEND;TZID=Europe/Helsinki:20221126T190000
DTSTAMP:20260424T142832
CREATED:20210621T092939Z
LAST-MODIFIED:20220906T083432Z
UID:326-1669489200-1669489200@mikaeli.fi
SUMMARY:Mamba / PERUTTU
DESCRIPTION:Mamban konsertti Mikkelin Mikaelissa 26.11.2022 on valitettavasti peruttu (aiemmat päivät 10.10.2020\, 19.3.2021\, 2.10.2021\, 5.2.2022 ja 19.11.2022. ). Lippurahojen palautusta voi hakea oheisesta linkistä 31.12.2022 asti. Lue ohjeet palautuksiin täältä. \n  \n  \nKeikkatauon jälkeen Mamba palaa jälleen estradeille.\nKonsertti keskittyy Mamban vanhoihin hitteihin. \nTero Vaara – kitara\, laulu\nPete Nikkinen – koskettimet\nVille Nurmi – kitara\nHarri Lehtonen – rummut\nJari Heino – basso \nLiput 32\,00 € (sis. käsittelykulun)
URL:https://mikaeli.fi/event/mamba-tapahtuma-siirtynyt/
CATEGORIES:Musiikki,Tapahtuma
END:VEVENT
END:VCALENDAR