BEGIN:VCALENDAR
VERSION:2.0
PRODID:-//Konsertti- ja kongressitalo Mikaeli - Suomen kiinnostavin tapahtumatalo - ECPv6.10.1.1//NONSGML v1.0//EN
CALSCALE:GREGORIAN
METHOD:PUBLISH
X-ORIGINAL-URL:https://mikaeli.fi
X-WR-CALDESC:Events for Konsertti- ja kongressitalo Mikaeli - Suomen kiinnostavin tapahtumatalo
REFRESH-INTERVAL;VALUE=DURATION:PT1H
X-Robots-Tag:noindex
X-PUBLISHED-TTL:PT1H
BEGIN:VTIMEZONE
TZID:Europe/Helsinki
BEGIN:DAYLIGHT
TZOFFSETFROM:+0200
TZOFFSETTO:+0300
TZNAME:EEST
DTSTART:20220327T010000
END:DAYLIGHT
BEGIN:STANDARD
TZOFFSETFROM:+0300
TZOFFSETTO:+0200
TZNAME:EET
DTSTART:20221030T010000
END:STANDARD
END:VTIMEZONE
BEGIN:VEVENT
DTSTART;TZID=Europe/Helsinki:20221201T190000
DTEND;TZID=Europe/Helsinki:20221201T190000
DTSTAMP:20260424T115722
CREATED:20220907T081437Z
LAST-MODIFIED:20221201T114519Z
UID:2193-1669921200-1669921200@mikaeli.fi
SUMMARY:Erja Lyytinen & Friends: Blue Christmas - Erja Lyytinen - Paleface - Emilia Sisco
DESCRIPTION:IKIMUISTOINEN KONSERTTIELÄMYS SINISEN BLUESIN JA PUNAISEN JOULUN YSTÄVILLE! \nRokkaavan riemukas Blue Christmas 2022 -kiertue on laulaja-kitaristi Erja Lyytisen emännöimä kiertue\, joka on vakiinnuttanut paikkansa bluesista nauttivien kuulijoiden jokavuotisena jouluperinteenä! Tänä vuonna kiertueella nähdään Lyytisen rinnalla räppäri Paleface sekä soul-laulaja Emilia Sisco. \nKonsertissa kuullaan Erja Lyytisen ja hänen solistivieraidensa suosikkikappaleita vuosien varrelta. Lisäksi ohjelmistossa on rokkaavia sovituksia ja tunnelmallisia tulkintoja tutuista – ja vähän tuntemattomammistakin – joululauluista. Solistikolmikko esittää kappaleita kaksi tuntia kestävässä konserttikokonaisuudessa yhdessä ja erikseen\, taustallaan Erja Lyytisen luotettu bändi. Konsertti on siis monipuolinen kattaus bluesia\, rock’n’rollia ja ikivihreitä sävelmiä! \nKonsertin kesto 2h 15min\, sis. väliajan \nLipun hinnat:\nPeruslippu 43\,50€\nlapset alle 16 v: 40\,50€\nopiskelija + eläkeläinen 40\,50€\nRyhmät min 10 hlöä: 40\,50€
URL:https://mikaeli.fi/event/erja-lyytinen-friends-blue-christmas-erja-lyytinen-paleface-emilia-sisco/
CATEGORIES:Musiikki,Tapahtuma
END:VEVENT
END:VCALENDAR