BEGIN:VCALENDAR
VERSION:2.0
PRODID:-//Konsertti- ja kongressitalo Mikaeli - Suomen kiinnostavin tapahtumatalo - ECPv6.10.1.1//NONSGML v1.0//EN
CALSCALE:GREGORIAN
METHOD:PUBLISH
X-WR-CALNAME:Konsertti- ja kongressitalo Mikaeli - Suomen kiinnostavin tapahtumatalo
X-ORIGINAL-URL:https://mikaeli.fi
X-WR-CALDESC:Events for Konsertti- ja kongressitalo Mikaeli - Suomen kiinnostavin tapahtumatalo
REFRESH-INTERVAL;VALUE=DURATION:PT1H
X-Robots-Tag:noindex
X-PUBLISHED-TTL:PT1H
BEGIN:VTIMEZONE
TZID:Europe/Helsinki
BEGIN:DAYLIGHT
TZOFFSETFROM:+0200
TZOFFSETTO:+0300
TZNAME:EEST
DTSTART:20220327T010000
END:DAYLIGHT
BEGIN:STANDARD
TZOFFSETFROM:+0300
TZOFFSETTO:+0200
TZNAME:EET
DTSTART:20221030T010000
END:STANDARD
END:VTIMEZONE
BEGIN:VEVENT
DTSTART;TZID=Europe/Helsinki:20221202T190000
DTEND;TZID=Europe/Helsinki:20221202T190000
DTSTAMP:20260424T112338
CREATED:20210622T121705Z
LAST-MODIFIED:20250901T113823Z
UID:421-1670007600-1670007600@mikaeli.fi
SUMMARY:Laura Voutilainen: Mitähän seuraavaks?
DESCRIPTION:Laura Voutilaisen konsertti Mikkelin Mikaelissa 4.12.2021 siirtyy. Uusi ajankohta on perjantai 2.12.2022. Ostetut liput (alkuperäisille päiville 13.12.2020\, 26.3.2021 ja 4.12.2021) käyvät sellaisenaan uuteen ajankohtaan. \nTapahtuma toteutetaan numeroimattomalla katsomolla. Paikat myydään joko permannolle tai parvelle. Mikäli sinulla on lippu\, jossa ei lue kumpaakaan näistä\, käy lippusi permannolle.\nKatsomon numeroimattomuus johtuu koronapandemien aikana tehdyistä useista siirroista sekä kapasiteettimuutoksista\, jotta turvavälit saatiin mahdollistettua. Pahoittelemme tilannetta. \n  \nMITÄHÄN SEURAAVAKS\, LAURA? KIERTUEELLE TIETYSTI!\nLaura Voutilaisen pitkään odotettu kiertue Mitähän Seuraavaks? starttaa marraskuussa Oulusta. \nKesällä 2021 julkaistavan Laura Voutilaisen uuden singlen nimi ei valikoitunut suinkaan sattumalta myös tulevan kiertueen teemaksi ja nimeksi. Laulu kertoo tutusta tilanteesta: kaksi aikuista tutustuu\, uusi ihmissuhde tulee risteykseen ja pitäisi tehdä valintoja. Mikä tie olisi se oikea\, joka johtaisi onneen ja elämänmuutokseen. \nLaura Voutilainen on ollut kotimaisen iskelmämusiikin huipulla jo neljännesvuosisadan. Paljon on jo takana\, mutta nuorena aloittaneella tähdellä on vielä pitkästi matkaa edessä. Mitähän seuraavaks? kysyy Laura artistina\, mutta myös vahvasti tuntevana\, sensuellina naisena. Sitä kysymme me kaikki\, kun elämässä on aika kääntää sivua. Kun takana on suljettu ovi ja edessä uusi avaamaton\, jonka toiselle puolelle ei vielä näe. \nKonserttikiertueella Laura pohtii näitä teemoja uusien ja uransa ajalta poimittujen laulujen sanoin; kysyy\, kyseenalaista\, mutta haluaa löytää myös vastauksia. Eikä Laura olisi Laura\, ellei välillä tunnelma nosteta kattoon ja laiteta puntit vipattamaan!\nSyksyllä julkaistava Lauran uusi albumi liikkuu pitkälti samojen teemojen ja tunnelmien parissa kuin konserttikiertue. Mukana kiertueella laulujen tuoreita tulkintoja säestämässä on uusi yhtye sovituksista vastanneen Lasse Piiraisen johtamana. \nMartti Talvela -sali \nPeruslippu 36\,50 € (sis. käsittelykulun)\nRyhmälippu 30\,00 € (min. 10 hlöä) \nKiertueen järjestäjä:\nCentral Line Entertainment ja Kaiku Entertainment \nLisätiedot:\ninfo@centralline.fi
URL:https://mikaeli.fi/event/laura-voutilainen-mitahan-seuraavaks/
CATEGORIES:Musiikki,Tapahtuma
END:VEVENT
END:VCALENDAR