BEGIN:VCALENDAR
VERSION:2.0
PRODID:-//Konsertti- ja kongressitalo Mikaeli - Suomen kiinnostavin tapahtumatalo - ECPv6.10.1.1//NONSGML v1.0//EN
CALSCALE:GREGORIAN
METHOD:PUBLISH
X-ORIGINAL-URL:https://mikaeli.fi
X-WR-CALDESC:Events for Konsertti- ja kongressitalo Mikaeli - Suomen kiinnostavin tapahtumatalo
REFRESH-INTERVAL;VALUE=DURATION:PT1H
X-Robots-Tag:noindex
X-PUBLISHED-TTL:PT1H
BEGIN:VTIMEZONE
TZID:Europe/Helsinki
BEGIN:DAYLIGHT
TZOFFSETFROM:+0200
TZOFFSETTO:+0300
TZNAME:EEST
DTSTART:20220327T010000
END:DAYLIGHT
BEGIN:STANDARD
TZOFFSETFROM:+0300
TZOFFSETTO:+0200
TZNAME:EET
DTSTART:20221030T010000
END:STANDARD
END:VTIMEZONE
BEGIN:VEVENT
DTSTART;TZID=Europe/Helsinki:20221203T190000
DTEND;TZID=Europe/Helsinki:20221203T190000
DTSTAMP:20260424T111404
CREATED:20220401T085712Z
LAST-MODIFIED:20220404T112430Z
UID:1618-1670094000-1670094000@mikaeli.fi
SUMMARY:J. Karjalainen Soulavaris -konserttisalikiertue
DESCRIPTION:Karjalainen kattavalle konserttisalikiertueelle syksyllä \nViime perjantaina 1.4.2022 uuden Soulavaris-albumin julkaissut ja loppuunmyydyssä Helsingin jäähallissa esiintynyt J. Karjalainen lähtee lokakuussa Soulavaris -konserttisalikiertueelle. Kuopion Musiikkikeskuksesta 28. lokakuuta alkava ja Helsingin Kulttuuritalolle 11. joulukuuta päättyvä kiertue käsittää yli 20 konserttia ympäri Suomen. \nVäinö Karjalaisen tuottama\, äänittämä ja miksaama Soulavaris-albumi sisältää kymmenen J. Karjalaisen säveltämää ja sanoittamaa kappaletta.  Levyllä musiikin orkestroinnista ei vastaa ainoastaan yksi kiinteä kokoonpano vaan soittajisto vaihtelee kappaleittain. Levyllä soittavat J. Karjalaisen lisäksi Abdissa ”Mamba” Assefa\, Mouhamadou L. ”Malang” Cissokho\, Pekka Gröhn\, Janne Haavisto\, Keimo Hirvonen\, Väinö Karjalainen\, Mikko Lankinen\, Tom Nyman\, Anssi Nykänen\, Miikka Paatelainen\, Tuomo Prättälä\, Mitja ”Polaroid Slim” Tuurala ja Tommi Viksten. \nSoulavaris-konserteissa J. Karjalaisen kanssa soittaa hänen viimeisimmillä levyilläänkin kuultu yhtye: Mikko Lankinen (kitara)\, Tom Nyman (basso)\, Janne Haavisto (rummut) ja Pekka Gröhn (kosketinsoittimet). J. Karjalaisen edellinen konserttisalikiertue toteutettiin syksyllä 2019\, jolloin liki loppuunmyydyn kiertueen konserteissa vieraili yli 14 000 vierasta. \nLisätiedot www.warnermusiclive.fi/jkarjalainen \nLiput alk. 39\,00€ \nJärj. Warner Music Live
URL:https://mikaeli.fi/event/j-karjalainen-soulavaris-konserttisalikiertue/
CATEGORIES:Musiikki,Tapahtuma
END:VEVENT
END:VCALENDAR