BEGIN:VCALENDAR
VERSION:2.0
PRODID:-//Konsertti- ja kongressitalo Mikaeli - Suomen kiinnostavin tapahtumatalo - ECPv6.10.1.1//NONSGML v1.0//EN
CALSCALE:GREGORIAN
METHOD:PUBLISH
X-WR-CALNAME:Konsertti- ja kongressitalo Mikaeli - Suomen kiinnostavin tapahtumatalo
X-ORIGINAL-URL:https://mikaeli.fi
X-WR-CALDESC:Events for Konsertti- ja kongressitalo Mikaeli - Suomen kiinnostavin tapahtumatalo
REFRESH-INTERVAL;VALUE=DURATION:PT1H
X-Robots-Tag:noindex
X-PUBLISHED-TTL:PT1H
BEGIN:VTIMEZONE
TZID:Europe/Helsinki
BEGIN:DAYLIGHT
TZOFFSETFROM:+0200
TZOFFSETTO:+0300
TZNAME:EEST
DTSTART:20220327T010000
END:DAYLIGHT
BEGIN:STANDARD
TZOFFSETFROM:+0300
TZOFFSETTO:+0200
TZNAME:EET
DTSTART:20221030T010000
END:STANDARD
END:VTIMEZONE
BEGIN:VEVENT
DTSTART;TZID=Europe/Helsinki:20221210T140000
DTEND;TZID=Europe/Helsinki:20221210T170000
DTSTAMP:20260424T111406
CREATED:20221028T111309Z
LAST-MODIFIED:20221103T094247Z
UID:2552-1670680800-1670691600@mikaeli.fi
SUMMARY:Mikkelin Voimistelijat ry\, MiVo - Joulukalenteri
DESCRIPTION:Mivo: Joulukalenteri. Joulukalenteri yllättää joka kerta. Mitähän Mikkelin Voimistelijoiden kalenterista tulee? Saakohan sieltä suklaata vai kenties joulun tunnelmaa?\nNäytöksessä mukana seuran lajit: akrobatia\, cheerleading\, tanssi sekä tanssillinen voimistelu. \nNäytöksiä on kaksi\, klo 14 & klo 16\nKesto n. 60 min \nLiput:\nPermanto peruslippu 16\,00€\nPermanto lapsi alle 12v. 14\,00€ \nParvi peruslippu 11\,50€\nParvi lapsi alle 12v. 9\,50€ \nPyörätuolipaikat 16\,00€ \nTapahtuman järj. Mikkelin Voimistelijat ry
URL:https://mikaeli.fi/event/mikkelin-voimistelijat-ry-mivo-joulukalenteri/
CATEGORIES:Lapset ja nuoret,Tapahtuma,Viihde
END:VEVENT
END:VCALENDAR