BEGIN:VCALENDAR
VERSION:2.0
PRODID:-//Konsertti- ja kongressitalo Mikaeli - Suomen kiinnostavin tapahtumatalo - ECPv6.10.1.1//NONSGML v1.0//EN
CALSCALE:GREGORIAN
METHOD:PUBLISH
X-ORIGINAL-URL:https://mikaeli.fi
X-WR-CALDESC:Events for Konsertti- ja kongressitalo Mikaeli - Suomen kiinnostavin tapahtumatalo
REFRESH-INTERVAL;VALUE=DURATION:PT1H
X-Robots-Tag:noindex
X-PUBLISHED-TTL:PT1H
BEGIN:VTIMEZONE
TZID:Europe/Helsinki
BEGIN:DAYLIGHT
TZOFFSETFROM:+0200
TZOFFSETTO:+0300
TZNAME:EEST
DTSTART:20220327T010000
END:DAYLIGHT
BEGIN:STANDARD
TZOFFSETFROM:+0300
TZOFFSETTO:+0200
TZNAME:EET
DTSTART:20221030T010000
END:STANDARD
END:VTIMEZONE
BEGIN:VEVENT
DTSTART;TZID=Europe/Helsinki:20221211T160000
DTEND;TZID=Europe/Helsinki:20221211T160000
DTSTAMP:20260424T111404
CREATED:20210622T122301Z
LAST-MODIFIED:20220901T131951Z
UID:428-1670774400-1670774400@mikaeli.fi
SUMMARY:Vanhoja poikia -Miehet unelmat ja Junnu Vainion laulut / PERUTTU
DESCRIPTION:Vanhoja Poikia – Miehet\, unelmat ja Junnu Vainion laulut-tilaisuus on valitettavasti peruuntunut. Lippurahojen palautusta voi hakea 31.12.2022 saakka.\nLippu.fin kautta lippunsa ostaneet hakevat palautusta linkistä: https://web.lippu.fi/palautus/\nTicketmasterin kautta lippunsa vuonna 2020 ostaneet hakevat palautusta Mikaelilta\, ohjeet löydät täältä: mikaeli.fi/lippujen-palautukset-2021/ \nTapahtuman edelliset ajankohdat 9.12.2020\, 9.5.2021\, 7.11.2021 ja 12.12.2021. \n  \nMiehet\, unelmat ja laulut \nNiilo on eläköitynyt kalastaja\, Arvi käy vielä muikkuverkoillaan. Arvin poika Pekka kaipaa sinne missä on naisia\, kaupunkeihin. Ja omaan elämään. Lati on osuuskauppias\, jota vaimo turhaan yrittää pitää tiukassa hihnassa. \nNeljä miestä tuulisella Saimaan saarella\, muistot\, toiveet\, syvimmät surut ja hellimmät unelmat jaetaan yhdessä. Usein huiman hauskasti\, yhtä usein kömpelön karheasti. Nokipannukahvi on tulilla\, kuppinsa pohjalle on lupa kaataa pienet plöröt\, kukaan ei kiellä eikä kehota. \nMiehet kuljettavat tarinaansa parinkymmenen Junnun laulun voimin\, huumori ja haikeus lyövät komeasti kättä. Ja jossain kääntää norppakin kylkeään. \nRooleissa Taneli Mäkelä\, Esko Roine\, Tuomas Uusitalo ja Puntti Valtonen\nLive-yhtyeenä näyttämöllä Antti Paalanen ja Kiharakolmio \nKäsikirjoitus Tommi Auvinen ja Seija Holma\nOhjaus Tommi Auvinen\nLaulut Juha Vainio\nKapellimestari Antti Paalanen\nKoreografia Jouni Prittinen\nLavastussuunnittelu Perttu Sinervo \nKantaesitys oli Tampereen Työväen Teatterin Eino Salmelaisen näyttämöllä 6.11.2018.\nEsityksen kesto noin 2 h 10 minuuttia sisältäen väliajan. \nMartti Talvela -sali \nPeruslippu 42\,50€\nS-etulippu 35\,00€ \n  \nKonserttielämyksen kruunaa herkullinen ruokailuhetki ennen konserttia Gastropub Einossa.\nPöytävaraukset Osuuskauppa Suur-Savon Myyntipalvelusta: p. 010 764 2000 (8\,35 snt/puh + 12\,09 snt/min) tai sähköpostilla sales.suur-savo@sok.fi \nSuosittelemme ruokailuun:\nPaikallisia juustoja (L)\n– Kappelin juustolan juustoja \nPaikallista kalaa (L\,G)\n– Kera kasviksien \nEinon suklaakakkua (L\,G)\n– Suklainen herkku kera pähkinöiden \nMenun hinta 48 € / hlö \nTAI\n\nPuumalan kylmäsavulohta (L\,G)\n– Puumalan kylmäsavulohta & Saimaa leipää \nEinon pihvi (L\,G)\n– Kunnon sisäfilepihvi\, kasviksia \nKinuskia & mustaherukkaa (L\,G)\n– Kinuskikakkua & mustaherukkaa \nMenun hinta 54 € / hlö
URL:https://mikaeli.fi/event/vanhoja-poikia-miehet-unelmat-ja-junnu-vainion-laulut-tapahtuma-siirtynyt-uudelleen/
CATEGORIES:Musiikki,Tapahtuma
END:VEVENT
BEGIN:VEVENT
DTSTART;TZID=Europe/Helsinki:20221211T190000
DTEND;TZID=Europe/Helsinki:20221211T190000
DTSTAMP:20260424T111404
CREATED:20221111T124833Z
LAST-MODIFIED:20221111T132247Z
UID:2611-1670785200-1670785200@mikaeli.fi
SUMMARY:Diandra - Kerran Joulukuun Aikaan
DESCRIPTION:Upeasta äänestään ja säteilevästä lavakarismastaan tunnettu Diandran Kerran Joulukuun Aikaan -konsertti Mikaelissa 11.12.2022! \nDiandra tuo joulun taikaa koko perheen konsertteihin\, joissa kuullaan artistin tulkinnat kauneimmista joululauluista. Yhdeksi Suomen upeimmista laulajista tituleerattu Diandra julkaisi myös kiertueen nimeä kantavan joulualbuminsa vuonna 2015 pysyen Suomen virallisella listalla yhteensä 15 viikon ajan. \n  \nLiput myy lippu.fi \nLiput 39€\, ei väliaikaa
URL:https://mikaeli.fi/event/diandra-kerran-joulukuun-aikaan/
CATEGORIES:Musiikki,Tapahtuma
END:VEVENT
END:VCALENDAR