BEGIN:VCALENDAR
VERSION:2.0
PRODID:-//Konsertti- ja kongressitalo Mikaeli - Suomen kiinnostavin tapahtumatalo - ECPv6.10.1.1//NONSGML v1.0//EN
CALSCALE:GREGORIAN
METHOD:PUBLISH
X-WR-CALNAME:Konsertti- ja kongressitalo Mikaeli - Suomen kiinnostavin tapahtumatalo
X-ORIGINAL-URL:https://mikaeli.fi
X-WR-CALDESC:Events for Konsertti- ja kongressitalo Mikaeli - Suomen kiinnostavin tapahtumatalo
REFRESH-INTERVAL;VALUE=DURATION:PT1H
X-Robots-Tag:noindex
X-PUBLISHED-TTL:PT1H
BEGIN:VTIMEZONE
TZID:Europe/Helsinki
BEGIN:DAYLIGHT
TZOFFSETFROM:+0200
TZOFFSETTO:+0300
TZNAME:EEST
DTSTART:20220327T010000
END:DAYLIGHT
BEGIN:STANDARD
TZOFFSETFROM:+0300
TZOFFSETTO:+0200
TZNAME:EET
DTSTART:20221030T010000
END:STANDARD
END:VTIMEZONE
BEGIN:VEVENT
DTSTART;TZID=Europe/Helsinki:20221219T180000
DTEND;TZID=Europe/Helsinki:20221219T180000
DTSTAMP:20260424T112337
CREATED:20220907T124024Z
LAST-MODIFIED:20220909T082133Z
UID:2240-1671472800-1671472800@mikaeli.fi
SUMMARY:Voimisteluseura Sirius esittää: Frozen 2
DESCRIPTION:Valmistaudu seikkailuun! \nArendelin kaupunki on vaarassa. Kuningatar Elsan täytyy selvittää totuus taikavoimiensa alkuperästä pelastaakseen valtakuntansa. Matkalla maailman ääriin etsimään ääntä\, joka Elsaa kutsuu kohtaavat sisarukset Anna ja Elsa sekä Kristoff\, Olaf ja Sven maan\, veden\, tulen ja ilman henget\, upean syksyisen ruskan\, revontulia ja jääkukkia!  Elsan on toivottava\, että hänen taikavoimansa riittävät pelastamaan valtakunnan. Tässä koko perheelle suunnatussa voimistelunäytöksessä kohtaat kauniita rytmisen voimistelun esityksiä\, hengityksen salpaavia hetkiä akrobatiavoimistelussa sekä ihastuttavia esityksiä harrastevoimistelun monipuolisissa ryhmissä. Tervetuloa! \nNäytöksen kesto 2 tuntia\, väliaika 30min. \nLiput:\nPermanto 16\,00€
URL:https://mikaeli.fi/event/voimisteluseura-sirius-esittaa-frozen-2/
CATEGORIES:Lapset ja nuoret,Tapahtuma,Viihde
END:VEVENT
END:VCALENDAR