BEGIN:VCALENDAR
VERSION:2.0
PRODID:-//Konsertti- ja kongressitalo Mikaeli - Suomen kiinnostavin tapahtumatalo - ECPv6.10.1.1//NONSGML v1.0//EN
CALSCALE:GREGORIAN
METHOD:PUBLISH
X-WR-CALNAME:Konsertti- ja kongressitalo Mikaeli - Suomen kiinnostavin tapahtumatalo
X-ORIGINAL-URL:https://mikaeli.fi
X-WR-CALDESC:Events for Konsertti- ja kongressitalo Mikaeli - Suomen kiinnostavin tapahtumatalo
REFRESH-INTERVAL;VALUE=DURATION:PT1H
X-Robots-Tag:noindex
X-PUBLISHED-TTL:PT1H
BEGIN:VTIMEZONE
TZID:Europe/Helsinki
BEGIN:DAYLIGHT
TZOFFSETFROM:+0200
TZOFFSETTO:+0300
TZNAME:EEST
DTSTART:20220327T010000
END:DAYLIGHT
BEGIN:STANDARD
TZOFFSETFROM:+0300
TZOFFSETTO:+0200
TZNAME:EET
DTSTART:20221030T010000
END:STANDARD
END:VTIMEZONE
BEGIN:VEVENT
DTSTART;TZID=Europe/Helsinki:20221220T190000
DTEND;TZID=Europe/Helsinki:20221220T190000
DTSTAMP:20260424T111406
CREATED:20221111T130118Z
LAST-MODIFIED:20221111T132504Z
UID:2620-1671562800-1671562800@mikaeli.fi
SUMMARY:Rakuunasoittokunta - Joulun Sävel
DESCRIPTION:Rakuunasoittokunta – Joulun Sävel \n  \nMusiikkimajuri Tomi Väisänen\, kapellimestari \nRakuunasoittokunta & Mikkelin musiikkiluokat \n  \nRakuunasoittokunta ja Mikkelin musiikkiluokat luovat joulun tunnelmaa. Konsertin myötä on hyvä rauhoittua joulun odotukseen. \n  \nKesto n. 2 h\, väliaika \nLiput 20 € \nTervetuloa mukaan!
URL:https://mikaeli.fi/event/rakuunasoittokunta-joulun-savel/
CATEGORIES:Musiikki,Tapahtuma
END:VEVENT
END:VCALENDAR