BEGIN:VCALENDAR
VERSION:2.0
PRODID:-//Konsertti- ja kongressitalo Mikaeli - Suomen kiinnostavin tapahtumatalo - ECPv6.10.1.1//NONSGML v1.0//EN
CALSCALE:GREGORIAN
METHOD:PUBLISH
X-WR-CALNAME:Konsertti- ja kongressitalo Mikaeli - Suomen kiinnostavin tapahtumatalo
X-ORIGINAL-URL:https://mikaeli.fi
X-WR-CALDESC:Events for Konsertti- ja kongressitalo Mikaeli - Suomen kiinnostavin tapahtumatalo
REFRESH-INTERVAL;VALUE=DURATION:PT1H
X-Robots-Tag:noindex
X-PUBLISHED-TTL:PT1H
BEGIN:VTIMEZONE
TZID:Europe/Helsinki
BEGIN:DAYLIGHT
TZOFFSETFROM:+0200
TZOFFSETTO:+0300
TZNAME:EEST
DTSTART:20230326T010000
END:DAYLIGHT
BEGIN:STANDARD
TZOFFSETFROM:+0300
TZOFFSETTO:+0200
TZNAME:EET
DTSTART:20231029T010000
END:STANDARD
END:VTIMEZONE
BEGIN:VEVENT
DTSTART;TZID=Europe/Helsinki:20230105T190000
DTEND;TZID=Europe/Helsinki:20230105T190000
DTSTAMP:20260420T053842
CREATED:20220321T081220Z
LAST-MODIFIED:20221007T101610Z
UID:1590-1672945200-1672945200@mikaeli.fi
SUMMARY:SIIRTYY / TAIKURIT STAGELLA - Suomen parhaat taikurit
DESCRIPTION:Esitys siirtyy vuodelle 2024. Uudet esityspäivät ilmoitetaan myöhemmin.\nJo ostetut liput käyvät sellaisenaan uuteen myöhemmin ilmoitettavaan esityspäivään. \nMahdolliset lippujen palautukset hyvitystä varten tulee tehdä 31.12.2022 mennessä: https://web.lippu.fi/palautus \nSuomen parhaat taikurit ennenäkemättömälle yhteiskiertueelle \nTammikuussa 2023 käynnistyvä Taikurit Stagella -Suomen parhaat taikurit –kiertue tuo neljä palkittua taikuria ennenkokemattomalle yhteiskiertueelle ympäri Suomen. Esiintyjinä Christian Engblom\, Miika Korkatti\, Risto Leppänen ja Markus Tervo. \nTaikurit Stagella -Suomen parhaat taikurit –kiertue kokoaa Suomen parhaat taikurit häikäisevälle yhteiskiertueelle. Viihdyttävän taikashow’n jokainen taikuri on oman alansa huipputekijä -ja vähintään kaksinkertainen Suomen-mestari. Esityksessä yleisön mielenkiinto vangitaan sekä yllättävien soolonumeroiden että hämmästyttävien yhteisnumeroiden kautta. Luvassa on kaikenikäisille sopiva maailmanluokan taikashow! \nKiertueen kaikki neljä taikuria ovat huippuluokan viihdyttäjiä\, joille taikuus on intohimo. Mestaritaikuri Christian Engblom tunnetaan maailmalla taikureiden taikurina. Omat temppunsa itse kehittelevä Engblom luennoi ja opettaa muita taikureita. Hän on myös ainoana suomalaisena fuulannut maailmankuulua yhdysvaltalaista taikurikaksikkoa Penn & Telleriä heidän nimikko-ohjelmassaan “Fool Us”. \nMagikoomikko Risto Leppänen on Suomen hauskimpia ammattitaikureita\, joka on tunnettu ainutlaatuisesta tavastaan yhdistää taikuuteen nopeata ja itseironisen terävää huumoria. Ympäri maailmaa esiintynyt Risto Leppänen sai viime vuonna suurta huomiota Brasiliassa hävitettyään yleisöltä Rio De Janeiron kuuluisan Sokeritoppa-vuoren. \nMentaalitaikuri Miika Korkatti on sanavalmis taikuri ja hauska mentalisti\, joka voitti ensimmäisen suomenmestaruutensa vain neljän vuoden taikurikokemuksella. Korkatti sekoittaa esityksissään klassista taikuutta ja modernia psykologiaa. Uniikki lähestymistapa taikuuteen on tehnyt miehestä yhden maamme kysytyimmistä ammattitaikureista. \nVuoden 2019 Talent Suomi -ohjelmassa hurmannut Markus Tervo tunnetaan taiteellisesta ja kauniista taikuudesta. Taikuuden kirkkainta tulevaisuutta edustava viisinkertainen suomenmestari on myös Suomen taikurit ry:n puheenjohtaja. \nKun mestaritaikuri Engblom\, psykologinen taikuri Korkatti\, magikoomikko Leppänen ja taikuri Tervo yhdistävät voimansa\, on lopputuloksena Suomessa ennennäkemätön taikashow. \nLiput alk. 34\,90 € \nShowtime klo 19.00\, tapahtumat ovat sallittuja kaiken ikäisille.\nEsityksen kesto on 2 x 45min\, esityksessä on väliaika \nTaikurit Stagella -Suomen parhaat taikurit –kiertueen järjestää RH Entertainment Oy.\nwww.taikurit.com
URL:https://mikaeli.fi/event/taikurit-stagella-suomen-parhaat-taikurit/
CATEGORIES:Tapahtuma,Viihde
END:VEVENT
END:VCALENDAR