BEGIN:VCALENDAR
VERSION:2.0
PRODID:-//Konsertti- ja kongressitalo Mikaeli - Suomen kiinnostavin tapahtumatalo - ECPv6.10.1.1//NONSGML v1.0//EN
CALSCALE:GREGORIAN
METHOD:PUBLISH
X-ORIGINAL-URL:https://mikaeli.fi
X-WR-CALDESC:Events for Konsertti- ja kongressitalo Mikaeli - Suomen kiinnostavin tapahtumatalo
REFRESH-INTERVAL;VALUE=DURATION:PT1H
X-Robots-Tag:noindex
X-PUBLISHED-TTL:PT1H
BEGIN:VTIMEZONE
TZID:Europe/Helsinki
BEGIN:DAYLIGHT
TZOFFSETFROM:+0200
TZOFFSETTO:+0300
TZNAME:EEST
DTSTART:20230326T010000
END:DAYLIGHT
BEGIN:STANDARD
TZOFFSETFROM:+0300
TZOFFSETTO:+0200
TZNAME:EET
DTSTART:20231029T010000
END:STANDARD
END:VTIMEZONE
BEGIN:VEVENT
DTSTART;TZID=Europe/Helsinki:20230128T190000
DTEND;TZID=Europe/Helsinki:20230128T190000
DTSTAMP:20260420T053841
CREATED:20220519T071026Z
LAST-MODIFIED:20230127T122953Z
UID:1786-1674932400-1674932400@mikaeli.fi
SUMMARY:MAAILMA ON KAUNIS – KASSU HALONEN 70 v – juhlakonsertti
DESCRIPTION:MAAILMA ON KAUNIS – KASSU HALONEN 70 v\nSolisteina Laura Voutilainen\, Diandra ja Tuure Kilpeläinen\nJuontaja Mikko Kuustonen\nHyvinkään Orkesteri ja Mikkelin kaupunginorkesteri\, kapellimestarina Atso Almila \nMusiikin moniottelija\, suomalaisen iskelmämusiikin monumentti ja kevyen musiikin grand old man Kassu Halonen täyttää 70 vuotta tammikuussa 2023. Mitkään sanat eivät riitä kuvaamaan Kassun mahtavaa uraa suomalaisten tuntojen tulkkina\, siispä mestarillisen säveltäjän syntymäpäivää juhlistetaan ainutlaatuisen yhteistyöproduktion merkeissä. Hyvinkään Orkesterin\, Mikkelin kaupunginorkesterin\, Hyvinkääsalin ja Mikkelin Mikaelin tuottamat konsertit soivat Hyvinkääsalissa perjantaina 27.1. ja Mikaelissa lauantaina 28.1.2023. \nKonserteissa valokeilaan nostetaan Kassun uskomaton säveltäjäura\, joka käsittää yli 1500 äänitettyä sävellystä. Laululistalle on valittu mm. Kirkan\, Irwinin ja Jari Sillanpään tunnetuiksi tekemiä hittejä\, jotka saavat rinnalleen myös harvemmin kuultuja sävelmiä sekä aivan uusinta uutta: parin viime vuoden aikana Kassu on laajentanut sävellystyötään klassisen musiikin pariin. Säveltäjän sinfoniahuoneessa on syntynyt mm. suuria orkesteriteoksia\, joista konserteissa kuullaan kantaesityksenä Sinfonia nro 2. \nKonsertit johtaa kapellimestari Atso Almila ja solisteina laulavat Diandra\, Tuure Kilpeläinen ja Laura Voutilainen. Juontajana toimii Mikko Kuustonen\, joka myös esittää pari Kassun ihanaa hittiä – nenäliinavaroitus! \nLiput:\n49\,50 € sis konserttilippu\n74\,50 € sis. konserttilippu\, Kassu Halosen elämäkertakirja Maailma on kaunis ja meet&greet Kassun kanssa klo 18 \nKonsertin kesto noin 3 tuntia\, sisältää yhden väliajan.
URL:https://mikaeli.fi/event/maailma-on-kaunis-kassu-halonen-70-v-juhlakonsertti/
CATEGORIES:Musiikki,Tapahtuma
END:VEVENT
END:VCALENDAR