BEGIN:VCALENDAR
VERSION:2.0
PRODID:-//Konsertti- ja kongressitalo Mikaeli - Suomen kiinnostavin tapahtumatalo - ECPv6.10.1.1//NONSGML v1.0//EN
CALSCALE:GREGORIAN
METHOD:PUBLISH
X-ORIGINAL-URL:https://mikaeli.fi
X-WR-CALDESC:Events for Konsertti- ja kongressitalo Mikaeli - Suomen kiinnostavin tapahtumatalo
REFRESH-INTERVAL;VALUE=DURATION:PT1H
X-Robots-Tag:noindex
X-PUBLISHED-TTL:PT1H
BEGIN:VTIMEZONE
TZID:Europe/Helsinki
BEGIN:DAYLIGHT
TZOFFSETFROM:+0200
TZOFFSETTO:+0300
TZNAME:EEST
DTSTART:20230326T010000
END:DAYLIGHT
BEGIN:STANDARD
TZOFFSETFROM:+0300
TZOFFSETTO:+0200
TZNAME:EET
DTSTART:20231029T010000
END:STANDARD
END:VTIMEZONE
BEGIN:VEVENT
DTSTART;TZID=Europe/Helsinki:20230204T190000
DTEND;TZID=Europe/Helsinki:20230204T190000
DTSTAMP:20260420T040740
CREATED:20221105T162511Z
LAST-MODIFIED:20221105T162511Z
UID:2583-1675537200-1675537200@mikaeli.fi
SUMMARY:Show Must Go On: Queen- musikaali
DESCRIPTION:Show Must Go On on Queen-yhtyeen musiikkiin perustuva spektaakkeli huippulaulajineen\, bändin tyylille uskollisine pukuineen ja valoineen. Esitys on samalla kunnianosoitus kaikkien aikojen karismaattisimman laulajan\, Freddie Mercuryn muistolle. \nMercuryä esittää Mikael Saari\, jonka hurmaavaa Queen-tulkintaa on kuultu aiemmin muun muassa Tähdet Tähdet -laulukilpailussa. Suuri yleisö muistaa Mikaelin myös UMK-kilpailun finaalista\, jossa hän on ollut mukana jo peräti kaksi kertaa. Lisäksi Mikael on tullut katsojille tutuksi  Suomen isoimpien teatterien lavoilla esiintyen ja useita musikaalirooleja tehden. \nQueen-yhtyeen  rinnalla kulkee myös tarina suomalaisen Bohemians-yhtyeen hullunhauskasta retkestä maailmanvalloitukseen. Bohemians tulkitsee upeasti Queenin musiikkia\, mutta muutoin ei Lontoon matkalta kommelluksia puutu. \nMukana on Queenin värikylläiseen soundimaailmaan ammattimaisesti heittäytyvä yhtye. Mitkään sanat eivät riitä kuvaamaan tätä esitystä\, joten paras vaihtoehtosi on saapua paikalle ja kokea se itse! Esityksen on nähnyt jo 100.000 katsojaa! \nShowssa kuullaan Queenin elämää suuremmat hitit kuten I Want It All\, Bohemian Rhapsody\, We Are The Champions\, Show Must Go On\, Under Pressure\, ja monta muuta. \nLiput:\nNormaali: 46\,50€\nEläkeläinen: 43\,50€\nOpiskelija/työtön: 36\,50€\nRyhmät yli 20 henkeä: 43\,50€ \nTapahtuman järj. Suomen Musiikkiteatteri
URL:https://mikaeli.fi/event/show-must-go-on-queen-musikaali/
CATEGORIES:Musiikki,Tapahtuma,Viihde
END:VEVENT
END:VCALENDAR