BEGIN:VCALENDAR
VERSION:2.0
PRODID:-//Konsertti- ja kongressitalo Mikaeli - Suomen kiinnostavin tapahtumatalo - ECPv6.10.1.1//NONSGML v1.0//EN
CALSCALE:GREGORIAN
METHOD:PUBLISH
X-ORIGINAL-URL:https://mikaeli.fi
X-WR-CALDESC:Events for Konsertti- ja kongressitalo Mikaeli - Suomen kiinnostavin tapahtumatalo
REFRESH-INTERVAL;VALUE=DURATION:PT1H
X-Robots-Tag:noindex
X-PUBLISHED-TTL:PT1H
BEGIN:VTIMEZONE
TZID:Europe/Helsinki
BEGIN:DAYLIGHT
TZOFFSETFROM:+0200
TZOFFSETTO:+0300
TZNAME:EEST
DTSTART:20230326T010000
END:DAYLIGHT
BEGIN:STANDARD
TZOFFSETFROM:+0300
TZOFFSETTO:+0200
TZNAME:EET
DTSTART:20231029T010000
END:STANDARD
END:VTIMEZONE
BEGIN:VEVENT
DTSTART;TZID=Europe/Helsinki:20230331T200000
DTEND;TZID=Europe/Helsinki:20230331T200000
DTSTAMP:20260420T010216
CREATED:20221026T073848Z
LAST-MODIFIED:20230224T140639Z
UID:2538-1680292800-1680292800@mikaeli.fi
SUMMARY:Vesterinen Yhtyeineen: Hetken ikuinen -konsertti
DESCRIPTION:Vesterinen Yhtyeineen: Hetken ikuinen \nVesterinen Yhtyeineen julkaisee ensi keväänä 10. maaliskuuta uransa kahdeksannen albumin ja lähtee uuden levyn myötä laajalle levynjulkaisukiertueelle. Yhteensä 17 paikkakuntaa kattava Hetken ikuinen -kiertue on kymmenhenkisen yhtyeen uran suurin ja kaunein. Konsertit ovat parituntisia elämyksiä uuden levyn musiikkia\, intiimejä erikoisuuksia sekä tietenkin vanhoja suosikkeja. \nAntti Lehtisen (Scandinavian Music Group\, Ultra Bra) tuottama Hetken ikuinen -albumi on paluu vanhan liiton bänditouhuun\, jossa soitto ja soittajat ovat keskipisteessä. Viime aikoina yhteisöämme koettelevista kovista ajoista johtuen levylle on valikoitunut tavallista vakavampia ja kantaaottavampia kappaleita\, mutta niihinkin yhtye on tuonut pisaroita mustasta huumoristaan\, eikä rakkauslaulujakaan ole unohdettu. \n”Jälleen kerran tuntuu siltä\, että ollaan tekemässä tähän astisen uramme parasta levyä. Ja miksei oltais kun yhtyeen kesken yhä vain syvenevä ystävyys\, kunnioitus ja musiikin tekemisen riemu vain kasvaa. Ja se näkyy ja kuuluu keikoilla\, sitä tunnetta ei pysty purkittamaan muualle kuin sieluunsa\, hetkestä tulee ikuinen”\, Tero Vesterinen kommentoi tulevaa levyä ja kiertuetta. \nKokoonpano:\nTero Vesterinen – Laulu\nMikko Enqvist – Kitara\nPetri Kivimäki – Kitara\nTeemu Jokinen – Rummut\nJepa Lambert – Taustalaulu\nHeini Ikonen – Taustalaulu\nLeo Kylätasku – Puhaltimet\nMarkus Piha – Basso\nIikka Kotaja – Koskettimet\nJanne Riionheimo – Koskettimet \nKonsertin kesto noin 1h 40min\, ei väliaikaa \nLipun hinta 39\,90€ \nTapahtuman järjestää Rocktalo Booking & Management
URL:https://mikaeli.fi/event/vesterinen-yhtyeineen-hetken-ikuinen-konsertti/
CATEGORIES:Musiikki,Tapahtuma
END:VEVENT
END:VCALENDAR