BEGIN:VCALENDAR
VERSION:2.0
PRODID:-//Konsertti- ja kongressitalo Mikaeli - Suomen kiinnostavin tapahtumatalo - ECPv6.10.1.1//NONSGML v1.0//EN
CALSCALE:GREGORIAN
METHOD:PUBLISH
X-ORIGINAL-URL:https://mikaeli.fi
X-WR-CALDESC:Events for Konsertti- ja kongressitalo Mikaeli - Suomen kiinnostavin tapahtumatalo
REFRESH-INTERVAL;VALUE=DURATION:PT1H
X-Robots-Tag:noindex
X-PUBLISHED-TTL:PT1H
BEGIN:VTIMEZONE
TZID:Europe/Helsinki
BEGIN:DAYLIGHT
TZOFFSETFROM:+0200
TZOFFSETTO:+0300
TZNAME:EEST
DTSTART:20230326T010000
END:DAYLIGHT
BEGIN:STANDARD
TZOFFSETFROM:+0300
TZOFFSETTO:+0200
TZNAME:EET
DTSTART:20231029T010000
END:STANDARD
END:VTIMEZONE
BEGIN:VEVENT
DTSTART;TZID=Europe/Helsinki:20230421T190000
DTEND;TZID=Europe/Helsinki:20230421T190000
DTSTAMP:20260420T010155
CREATED:20230126T131644Z
LAST-MODIFIED:20230126T131858Z
UID:2860-1682103600-1682103600@mikaeli.fi
SUMMARY:MARKO HIETALA - kevätkiertue
DESCRIPTION:Legendaarinen Marko Hietala lähtee huhtikuussa Mustan Sydämen Kevätkiertueelle \nMaamme tunnetuimpiin laulaja-basisteihin lukeutuva\, Nightwishin ja Tarot-yhtyeen riveistä sekä Raskasta joulua -kokoonpanosta tuttu Marko Hietala on viettänyt hengähdystaukoa musiikkimaailman kuvioista\, mutta vastaa nyt yleisön odotuksiin ja lähtee Mustan Sydämen Kevätkiertueelle. \n– ”Rokkarille rokkaavasta maailmasta on luonnollista ja oikein palata lavoille. Tulen siis tekemään Suomessa omalla joukkiolla Mustan Sydämen Kevätkiertueen huhtikuussa 2023. Tulemme jakamaan korvakarkkejamme progen\, rockin ja metallin rakastajille useammassakin paikassa. Olisi hienoa nähdä\, ja arvaan\, että teille olisi hienoa olla paikalla”\, kuvailee Marko fiiliksiään. \nKevään kiertueella kuullaan materiaalia Hietalan 2019 julkaistulta ensimmäiseltä sooloalbumilta Mustan sydämen rovio\, sekä muutama tarkoin valittu lainakappale. Mustan sydämen rovio julkaistiin myös englanninkielisenä versiona nimellä Pyre of The Black Heart ja se sai kansainvälisessä rock-lehdistössä innostuneen vastaanoton; Markon monipuolista äänenkäyttöä ja klassikoista ammentavaa\, mutta silti omintakeista uutta musiikkia on kehuttu laajalti. \nKiertuekokoonpano: \nMarko Hietala (laulu\, basso)\nTuomas Wäinölä (kitara)\nVili Ollila (koskettimet)\nAnssi Nykänen (rummut) \nLiput: \nRivit 1- 14: 35\,00€\nRivit 15-21 ja parvi: 29\,50€\nLievä näkörajoitepaikat parvella 27\,50€ \nKonsertissa ei ole väliaikaa\nKesto 90 min\nEi ikärajaa
URL:https://mikaeli.fi/event/marko-hietala-kevatkiertue/
CATEGORIES:Musiikki,Tapahtuma
END:VEVENT
END:VCALENDAR