BEGIN:VCALENDAR
VERSION:2.0
PRODID:-//Konsertti- ja kongressitalo Mikaeli - Suomen kiinnostavin tapahtumatalo - ECPv6.10.1.1//NONSGML v1.0//EN
CALSCALE:GREGORIAN
METHOD:PUBLISH
X-ORIGINAL-URL:https://mikaeli.fi
X-WR-CALDESC:Events for Konsertti- ja kongressitalo Mikaeli - Suomen kiinnostavin tapahtumatalo
REFRESH-INTERVAL;VALUE=DURATION:PT1H
X-Robots-Tag:noindex
X-PUBLISHED-TTL:PT1H
BEGIN:VTIMEZONE
TZID:Europe/Helsinki
BEGIN:DAYLIGHT
TZOFFSETFROM:+0200
TZOFFSETTO:+0300
TZNAME:EEST
DTSTART:20230326T010000
END:DAYLIGHT
BEGIN:STANDARD
TZOFFSETFROM:+0300
TZOFFSETTO:+0200
TZNAME:EET
DTSTART:20231029T010000
END:STANDARD
END:VTIMEZONE
BEGIN:VEVENT
DTSTART;TZID=Europe/Helsinki:20230423T180000
DTEND;TZID=Europe/Helsinki:20230423T180000
DTSTAMP:20260420T010153
CREATED:20221207T134702Z
LAST-MODIFIED:20230331T130246Z
UID:2734-1682272800-1682272800@mikaeli.fi
SUMMARY:New York New York - Frank Sinatra tähtikonsertti: Mikael Konttinen (PERUTTU)
DESCRIPTION:Tapahtuma on valitettavasti peruttu.\nLiput voi palauttaa osoitteessa web.lippu.fi/palautus 31.5.2023 mennessä. \n  \nFRANK SINATRAN HITTIEN SIIVITTÄMÄ TÄHTIKONSERTTI\nMikael Konttinen ja HT Combo \nFrank Sinatra oli oman aikakautensa ylivertainen laulujen tulkitsija. Hänen poikkeuksellisen kykynsä luoda lauluihin juuri oikea tunnelma\, nosti useita sävellyksiä listahiteiksi ja säveltäjiä sekä orkestereita suuren yleisön tietoisuuteen. \nMikael Konttinen on tunnettu loistavana laulujen tulkitsijana\, mutta myös useiden tv-esiintymistensä myötä erinomaisena juontajana ja show-tähtenä. Tässä konsertissa Mikael kertoo mielenkiintoisella tavalla esittämiensä laulujen taustoista ja Frank Sinatran värikkäästä ja vaiherikkaasta elämästä. \nKonsertissa kuullaan Sinatran hittejä sykähdyttävinä sooloina HT Combo Big Bandin säestyksellä. Luvassa muunmuassa klassikot  Strangers in the Night\, My Way\, New York New York\, Over the Rainbow\, Mack the Knife\, Fly Me To The Moon  ja All The Way. \nLiput \nPeruslippu 29\,90 €\nLasten lippu 25\,00 €\, alle 12 v\nOpiskelija 25\,00 €\nRyhmät 27\,50 €\, min 10 hlöä
URL:https://mikaeli.fi/event/new-york-new-york-frank-sinatra-tahtikonsertti-mikael-konttinen/
CATEGORIES:Musiikki,Tapahtuma
END:VEVENT
END:VCALENDAR