BEGIN:VCALENDAR
VERSION:2.0
PRODID:-//Konsertti- ja kongressitalo Mikaeli - Suomen kiinnostavin tapahtumatalo - ECPv6.10.1.1//NONSGML v1.0//EN
CALSCALE:GREGORIAN
METHOD:PUBLISH
X-ORIGINAL-URL:https://mikaeli.fi
X-WR-CALDESC:Events for Konsertti- ja kongressitalo Mikaeli - Suomen kiinnostavin tapahtumatalo
REFRESH-INTERVAL;VALUE=DURATION:PT1H
X-Robots-Tag:noindex
X-PUBLISHED-TTL:PT1H
BEGIN:VTIMEZONE
TZID:Europe/Helsinki
BEGIN:DAYLIGHT
TZOFFSETFROM:+0200
TZOFFSETTO:+0300
TZNAME:EEST
DTSTART:20230326T010000
END:DAYLIGHT
BEGIN:STANDARD
TZOFFSETFROM:+0300
TZOFFSETTO:+0200
TZNAME:EET
DTSTART:20231029T010000
END:STANDARD
END:VTIMEZONE
BEGIN:VEVENT
DTSTART;TZID=Europe/Helsinki:20230429T140000
DTEND;TZID=Europe/Helsinki:20230429T170000
DTSTAMP:20260420T010155
CREATED:20230109T121145Z
LAST-MODIFIED:20230317T123225Z
UID:2809-1682776800-1682787600@mikaeli.fi
SUMMARY:Mikkelin Voimistelijat ry\, MiVo - Vappujuhlat
DESCRIPTION:Vappujuhlat ovat riehakkaita tapahtumia\, joissa voi tapahtua mitä vain. Näemmekö näissä juhlissa kenties villiä juhlintaa tai kuulemmeko ilmapallojen poksuntaa? \nNäytöksessä mukana seuran lajit: akrobatia\, cheerleading\, tanssi ja tanssillisen voimistelu. \nNäytöksen kesto 1h \n 
URL:https://mikaeli.fi/event/mikkelin-voimistelijat-ry-mivo-vappujuhlat/
CATEGORIES:Lapset ja nuoret,Tapahtuma,Viihde
END:VEVENT
BEGIN:VEVENT
DTSTART;TZID=Europe/Helsinki:20230429T160000
DTEND;TZID=Europe/Helsinki:20230429T170000
DTSTAMP:20260420T010155
CREATED:20230109T121458Z
LAST-MODIFIED:20230317T123210Z
UID:2812-1682784000-1682787600@mikaeli.fi
SUMMARY:Mikkelin Voimistelijat ry\, MiVo - Vappujuhlat
DESCRIPTION:Vappujuhlat ovat riehakkaita tapahtumia\, joissa voi tapahtua mitä vain. Näemmekö näissä juhlissa kenties villiä juhlintaa tai kuulemmeko ilmapallojen poksuntaa? \nNäytöksessä mukana seuran lajit: akrobatia\, cheerleading\, tanssi ja tanssillisen voimistelu. \nNäytöksen kesto 1h \n 
URL:https://mikaeli.fi/event/mikkelin-voimistelijat-ry-mivo-vappujuhlat-2/
CATEGORIES:Lapset ja nuoret,Tapahtuma,Viihde
END:VEVENT
END:VCALENDAR