BEGIN:VCALENDAR
VERSION:2.0
PRODID:-//Konsertti- ja kongressitalo Mikaeli - Suomen kiinnostavin tapahtumatalo - ECPv6.10.1.1//NONSGML v1.0//EN
CALSCALE:GREGORIAN
METHOD:PUBLISH
X-ORIGINAL-URL:https://mikaeli.fi
X-WR-CALDESC:Events for Konsertti- ja kongressitalo Mikaeli - Suomen kiinnostavin tapahtumatalo
REFRESH-INTERVAL;VALUE=DURATION:PT1H
X-Robots-Tag:noindex
X-PUBLISHED-TTL:PT1H
BEGIN:VTIMEZONE
TZID:Europe/Helsinki
BEGIN:DAYLIGHT
TZOFFSETFROM:+0200
TZOFFSETTO:+0300
TZNAME:EEST
DTSTART:20230326T010000
END:DAYLIGHT
BEGIN:STANDARD
TZOFFSETFROM:+0300
TZOFFSETTO:+0200
TZNAME:EET
DTSTART:20231029T010000
END:STANDARD
END:VTIMEZONE
BEGIN:VEVENT
DTSTART;TZID=Europe/Helsinki:20230801T170000
DTEND;TZID=Europe/Helsinki:20230801T170000
DTSTAMP:20260419T180826
CREATED:20230224T114347Z
LAST-MODIFIED:20230530T070655Z
UID:2978-1690909200-1690909200@mikaeli.fi
SUMMARY:MIKKELIN MUSIIKKIJUHLAT: VIOLIN LOVE
DESCRIPTION:VIOLIN LOVE\n\nInmo Yang\, viulu\nIrina Zahharenkova\, piano \nBeethoven – Brahms – Webern – Furrer \nSibelius -viulukilpailun 2022 voittaja Inmo Yang on lumonnut esityksillään niin yleisön kuin useiden kilpailuiden tuomaristonkin. Hänen soittoaan on kuvailtu sekä täydellisen hallituksi että tulkinnallisesti vastaansanomattomaksi. Musiikkijuhlilla hän soittaa resitaalin lisäksi myös Lontoon Philharmonian solistina. \nJärj. Mikkelin Musiikkijuhlat\nLisätietoja: mikkelinmusiikkijuhlat.fi
URL:https://mikaeli.fi/event/mikkelin-musiikkijuhlat-violin-love/
CATEGORIES:Musiikki,Tapahtuma
END:VEVENT
BEGIN:VEVENT
DTSTART;TZID=Europe/Helsinki:20230801T190000
DTEND;TZID=Europe/Helsinki:20230801T190000
DTSTAMP:20260419T180826
CREATED:20230224T114518Z
LAST-MODIFIED:20230530T070618Z
UID:2981-1690916400-1690916400@mikaeli.fi
SUMMARY:MIKKELIN MUSIIKKIJUHLAT: ISOT BEET
DESCRIPTION:ISOT BEET\nRakkaudesta improvisaatioon \nJanoska Ensemble\n\nBach – Beethoven – Brahms – Bartók – Bernstein – Brubeck \nHuikeaa virtuositeettia ja tajunnan räjäyttävää vauhtia sisältävä konsertti yhdistelee klassista\, sekä viihde-\, jazz- ja popmusiikkia ja improvisaatiota tavalla\, joka ei jätä ketään salissa istuvaa kylmäksi. Maailmalla erittäin suosittu kokoonpano esiintyy ensimmäistä kertaa Suomessa. \nLiput 59€ / lapset/opiskelijat 49€\nLumme-tiimihintaan 49€ / lapset/opiskelijat 44€ \nJärj. Mikkelin Musiikkijuhlat\nLisätietoja: mikkelinmusiikkijuhlat.fi
URL:https://mikaeli.fi/event/mikkelin-musiikkijuhlat-isot-beet/
CATEGORIES:Musiikki,Tapahtuma
END:VEVENT
END:VCALENDAR