BEGIN:VCALENDAR
VERSION:2.0
PRODID:-//Konsertti- ja kongressitalo Mikaeli - Suomen kiinnostavin tapahtumatalo - ECPv6.10.1.1//NONSGML v1.0//EN
CALSCALE:GREGORIAN
METHOD:PUBLISH
X-WR-CALNAME:Konsertti- ja kongressitalo Mikaeli - Suomen kiinnostavin tapahtumatalo
X-ORIGINAL-URL:https://mikaeli.fi
X-WR-CALDESC:Events for Konsertti- ja kongressitalo Mikaeli - Suomen kiinnostavin tapahtumatalo
REFRESH-INTERVAL;VALUE=DURATION:PT1H
X-Robots-Tag:noindex
X-PUBLISHED-TTL:PT1H
BEGIN:VTIMEZONE
TZID:Europe/Helsinki
BEGIN:DAYLIGHT
TZOFFSETFROM:+0200
TZOFFSETTO:+0300
TZNAME:EEST
DTSTART:20230326T010000
END:DAYLIGHT
BEGIN:STANDARD
TZOFFSETFROM:+0300
TZOFFSETTO:+0200
TZNAME:EET
DTSTART:20231029T010000
END:STANDARD
END:VTIMEZONE
BEGIN:VEVENT
DTSTART;TZID=Europe/Helsinki:20230803T120000
DTEND;TZID=Europe/Helsinki:20230803T170000
DTSTAMP:20260419T180828
CREATED:20230524T181417Z
LAST-MODIFIED:20230524T181530Z
UID:3281-1691064000-1691082000@mikaeli.fi
SUMMARY:VENÄJÄ kirjailijatapaaminen
DESCRIPTION:Esiintyjät\nProfessori Jukka Korpela on maamme tunnetuimpia Venäjän historian tutkijoita. Korpelan vuonna 2023 ilmestynyt\, Muinais-Venäjän myytti\, on hänen Venäjän tutkimuksensa synteesi. Jukka Korpela on ennen tutkijan uraansa palvellut diplomaattina Egyptissä\, Bulgariassa ja Neuvostoliitossa. Hän on kotoisin Mikkelistä. \nKenraali evp. Ari Puheloinen toimi Puolustusvoimien komentajana vuosina 2009- 2014. Sitä ennen hän oli mm. Itäisen maanpuolustusalueen komentajana Mikkelissä vuosina 2004-2007. Hän on hoitanut useita kansainvälisiä tehtäviä ja täydentänyt opintojaan mm. Neuvostoliitossa sekä Yhdysvalloissa. Hänen teoksensa Sotilas ja työmies ilmestyi myös vuonna 2023. Hän on kotoisin Taipalsaarelta. \nErkki Liikanen haastattelee. Tilaisuuden yhteydessä on mahdollisuus hankkia kirjoja ja saada niihin omistuskirjoitukset. \nTilaisuuteen vapaa pääsy\, tervetuloa! \nJärjestäjä: Itä-Suomi Unioni ry yhteistyössä Mikkelin Musiikkijuhlien kanssa
URL:https://mikaeli.fi/event/venaja-kirjailijatapaaminen/
CATEGORIES:Tapahtuma
END:VEVENT
BEGIN:VEVENT
DTSTART;TZID=Europe/Helsinki:20230803T140000
DTEND;TZID=Europe/Helsinki:20230803T170000
DTSTAMP:20260419T180828
CREATED:20230224T123102Z
LAST-MODIFIED:20230224T123102Z
UID:2994-1691071200-1691082000@mikaeli.fi
SUMMARY:MIKKELIN MUSIIKKIJUHLAT: FROM LONDON WITH LOVE 1
DESCRIPTION:FROM LONDON WITH LOVE 1 \nPhilharmonian kamarimusiikkiyhtye \nMikkeliläisyleisön hurmanneen Lontoon Philharmonian soittajat esiintyvät myös kamarimusiikkikonserteissa. Konsertin ohjelma ilmoitetaan myöhemmin. \nLiput 25€ / lapset/opiskelijat 20€ \nJärj. Mikkelin Musiikkijuhlat\nLisätietoja: mikkelinmusiikkijuhlat.fi
URL:https://mikaeli.fi/event/mikkelin-musiikkijuhlat-from-london-with-love-1/
CATEGORIES:Musiikki,Tapahtuma
END:VEVENT
BEGIN:VEVENT
DTSTART;TZID=Europe/Helsinki:20230803T170000
DTEND;TZID=Europe/Helsinki:20230803T170000
DTSTAMP:20260419T180828
CREATED:20230224T123639Z
LAST-MODIFIED:20230224T123639Z
UID:2997-1691082000-1691082000@mikaeli.fi
SUMMARY:MIKKELIN MUSIIKKIJUHLAT: SUOMALAISEN MUSIIKIN MENESTYSTARINA
DESCRIPTION:MISTÄ SYNTYY SUOMALAISEN MUSIIKIN MENESTYSTARINA \nErkki Liikanen\, juontaja\nLilja Haatainen (11v)\, viulu (Louis Spohr -viulukilpailun alle 13v sarjan voittaja)\nLiisa Malmivaara\, piano \nKreisler – Bruch\n\nYksitoistavuotias viulun ihmelapsi Lilja Haatainen voitti marraskuussa 2022 Weimarissa\, Saksassa järjestetyn kansainvälisen Louis Spohr -viulukilpailun korkeintaan 13-vuotiaiden viulistien sarjan. Konsertin jälkeen keskustellaan Erkki Liikasen johtamassa paneelissa niistä tekijöistä\, joista suomalaisen musiikin menestystarina syntyy. \nLiput 25€ / lapset/opiskelijat 20€ \nJärj. Mikkelin Musiikkijuhlat\nLisätietoja: mikkelinmusiikkijuhlat.fi
URL:https://mikaeli.fi/event/mikkelin-musiikkijuhlat-suomalaisen-musiikin-menestystarina/
CATEGORIES:Musiikki,Tapahtuma
END:VEVENT
BEGIN:VEVENT
DTSTART;TZID=Europe/Helsinki:20230803T200000
DTEND;TZID=Europe/Helsinki:20230803T200000
DTSTAMP:20260419T180828
CREATED:20230224T123951Z
LAST-MODIFIED:20230803T055844Z
UID:3001-1691092800-1691092800@mikaeli.fi
SUMMARY:MIKKELIN MUSIIKKIJUHLAT: LICENCE TO FALL IN LOVE
DESCRIPTION:Esiintyjät\nLontoon Philharmonia\nErkki Lasonpalo\, kapellimestari\nMiina-Liisa Värelä\, soprano \nOhjelmassa\nLotta Wennäkoski: Verdigris \nSibelius (arr. J. Kuusisto): Sarja Sibeliuksen lauluja \n–väliaika— \nTšaikovski: Sinfonia nro 4 f-molli\, op. 36 \nEsittely\nLicence to Fall in Love -konsertissa on kirjaimellisesti lupa rakastua illan teoksiin! \nKonsertin aloittaa Lotta Wennäkosken Verdigris\, joka on säveltäjän oma viittaus Sibeliuksen Satuun. Sibelius-teemaa jatkaa Sarja Sibeliuksen lauluja\, jotka on sovittanut Jaakko Kuusisto. Illan päättää Pjotr Tšaikovskin neljäs sinfonia f-molli\, op. 36\, jota säveltäjämestarin tiedetään pitäneen yhtenä onnistuneimmista sävellyksistään. \nKonsertin johtaa Mikkelin Musiikkijuhlien uusi taiteellinen johtaja Erkki Lasonpalo. Konsertin solisti\, sopraano Miina-Liisa Värelä on yksi Suomen lupaavimmista lyyris-dramaattisista sopraanoista. Hänet tunnetaan runsaasti kansainvälistä menestystä saavuttaneiden oopperarooliensa lisäksi laajan lied-ohjelmiston omaavana taiteilijana. Keväällä 2013 erinomaisin arvosanoin Sibelius-Akatemian oopperakoulutuksesta musiikin maisteriksi keväällä 2013 valmistunut Värelä voitti sekä Timo Mustakallio laulukilpailun kesällä 2011 Savonlinnan Oopperajuhlilla että Kangasniemen laulukilpailun kesällä 2009. \nLiput\nLiput 119€ / lapset/opiskelijat 99€ (sis toim.kulut)\nVIP -lippu 139€ (sis toim.kulut)\nS-Etuhintaan 109€ / lapset/opiskelijat 89€ (sis toim.kulut) /ei koske VIP-lippuja/ \nJärj. Mikkelin Musiikkijuhlat\nLisätietoja: mikkelinmusiikkijuhlat.fi
URL:https://mikaeli.fi/event/mikkelin-musiikkijuhlat-oopperagaala/
CATEGORIES:Musiikki,Tapahtuma
END:VEVENT
END:VCALENDAR