BEGIN:VCALENDAR
VERSION:2.0
PRODID:-//Konsertti- ja kongressitalo Mikaeli - Suomen kiinnostavin tapahtumatalo - ECPv6.10.1.1//NONSGML v1.0//EN
CALSCALE:GREGORIAN
METHOD:PUBLISH
X-WR-CALNAME:Konsertti- ja kongressitalo Mikaeli - Suomen kiinnostavin tapahtumatalo
X-ORIGINAL-URL:https://mikaeli.fi
X-WR-CALDESC:Events for Konsertti- ja kongressitalo Mikaeli - Suomen kiinnostavin tapahtumatalo
REFRESH-INTERVAL;VALUE=DURATION:PT1H
X-Robots-Tag:noindex
X-PUBLISHED-TTL:PT1H
BEGIN:VTIMEZONE
TZID:Europe/Helsinki
BEGIN:DAYLIGHT
TZOFFSETFROM:+0200
TZOFFSETTO:+0300
TZNAME:EEST
DTSTART:20230326T010000
END:DAYLIGHT
BEGIN:STANDARD
TZOFFSETFROM:+0300
TZOFFSETTO:+0200
TZNAME:EET
DTSTART:20231029T010000
END:STANDARD
END:VTIMEZONE
BEGIN:VEVENT
DTSTART;TZID=Europe/Helsinki:20230804T100000
DTEND;TZID=Europe/Helsinki:20230804T170000
DTSTAMP:20260419T180830
CREATED:20230601T115724Z
LAST-MODIFIED:20230601T120351Z
UID:3328-1691143200-1691168400@mikaeli.fi
SUMMARY:Päämajasymposium
DESCRIPTION:Päämajasymposium järjestetään konsertti- ja kongressitalo Mikaelissa päivätapahtumana ja se on kaikille avoin ja maksuton. Symposium järjestetään nyt jo 14. kertaa. \nTapahtumassa on kaksi eri paneelikeskustelua\, joiden teemoina ovat Suomen turvallisuus ja puolustus sekä henkinen kriisinkestävyys. Perinteinen Mannerheim-luento avaa tilaisuuden. \nSymposiumin järjestävät Etelä-Savon maakuntaliitto ja Mikkelin kaupunki yhteistyössä Länsi-Savon\, Yleisradion\, Mikkelin Musiikkijuhlien\, Sodan ja rauhan keskus Muistin ja Maavoimien esikunnan kanssa. \nTervetuloa päämajakaupunki Mikkeliin ja Symposiumiin! \n \nOHJELMA: \n10.00 Tilaisuuden avaus\nSodan ja Rauhan keskus Muisti: Ari Lahti\, tukisäätiön hallituksen puheenjohtaja \n10.10 Mannerheim-luento\nKansanedustaja\, Antti Häkkänen \n10.40 Musiikkiesitys\nMikkelin Musiikkijuhlat\, On the Move! – Soiva tervehdys \n10.50 Suomen turvallisuus ja puolustus\nKansanedustaja Jussi Halla-Aho \nMaavoimien esikuntapäällikkö Jukka Jokinen\nSuomen Pankin pääjohtaja Olli Rehn\nKenraaliluutnantti (res) Arto Räty \n11.50 TAUKO \n12.10 Henkinen kriisinkestävyys ja kulttuuriset juuret\nTutkija\, tutkimusryhmänjohtaja Ville Kivimäki\nTurun arkkihiippakunnan piispa Mari Leppänen\nSavonlinnan Oopperajuhlien taiteellinen johtaja Ville Matvejeff\nSuomen Kulttuurirahaston toimitusjohtaja Susanna Pettersson \n13.10 Päätössanat\nYleisradion toimitusjohtaja Merja Ylä-Anttila \nPäämajasymposiumin juontaa\ntoimittaja Jussi-Pekka Rantanen\, Yleisradio \nPidätämme oikeudet kaikkiin muutoksiin. \nTilaisuuden paneelikeskustelut tulevat löytymään Yle Areenasta.
URL:https://mikaeli.fi/event/paamajasymposium-2/
CATEGORIES:Tapahtuma
END:VEVENT
BEGIN:VEVENT
DTSTART;TZID=Europe/Helsinki:20230804T140000
DTEND;TZID=Europe/Helsinki:20230804T170000
DTSTAMP:20260419T180830
CREATED:20230224T124222Z
LAST-MODIFIED:20230224T124222Z
UID:3004-1691157600-1691168400@mikaeli.fi
SUMMARY:MIKKELIN MUSIIKKIJUHLAT: FROM LONDON WITH LOVE 2
DESCRIPTION:FROM LONDON WITH LOVE 2 \nPhilharmonian kamarimusiikkiyhtye \nMikkeliläisyleisön hurmanneen Lontoon Philharmonian soittajat esiintyvät myös kamarimusiikkikonserteissa. Konsertin ohjelma ilmoitetaan myöhemmin. \nLiput 25€ / lapset/opiskelijat 20€ \nJärj. Mikkelin Musiikkijuhlat\nLisätietoja: mikkelinmusiikkijuhlat.fi
URL:https://mikaeli.fi/event/mikkelin-musiikkijuhlat-from-london-with-love-2/
CATEGORIES:Musiikki,Tapahtuma
END:VEVENT
BEGIN:VEVENT
DTSTART;TZID=Europe/Helsinki:20230804T170000
DTEND;TZID=Europe/Helsinki:20230804T170000
DTSTAMP:20260419T180830
CREATED:20230224T124434Z
LAST-MODIFIED:20230224T124434Z
UID:3007-1691168400-1691168400@mikaeli.fi
SUMMARY:MIKKELIN MUSIIKKIJUHLAT: CELLOVE
DESCRIPTION:CELLOVE\n\nTatu Kauppinen\, sello\nDavid Munk-Nielsen\, piano \nJanáček – C. Schumann – R. Schumann – Rahmaninov \nMoninkertainen pianokilpailuiden voittaja David Munk-Nielsen ja Turun sellokilpailun tuore voittaja Tatu Kauppinen yhdistävät nuorten lavaleijonien karismansa konsertissa\, jonka ohjelmistoa he kuvaavat itse ultraromanttiseksi. \nLiput 35€ / lapset/opiskelijat 25€ \nJärj. Mikkelin Musiikkijuhlat\nLisätietoja: mikkelinmusiikkijuhlat.fi
URL:https://mikaeli.fi/event/mikkelin-musiikkijuhlat-cellove/
CATEGORIES:Musiikki,Tapahtuma
END:VEVENT
BEGIN:VEVENT
DTSTART;TZID=Europe/Helsinki:20230804T200000
DTEND;TZID=Europe/Helsinki:20230804T200000
DTSTAMP:20260419T180830
CREATED:20230224T124802Z
LAST-MODIFIED:20230224T125935Z
UID:3010-1691179200-1691179200@mikaeli.fi
SUMMARY:MIKKELIN MUSIIKKIJUHLAT: JOUTSENTEN SIIVILLÄ
DESCRIPTION:JOUTSENTEN SIIVILLÄ\nRakkaudesta luontoon \nLontoon Philharmonia\nSanttu-Matias Rouvali\, kapellimestari\nYulianna Avdeeva\, piano \nSergei Rahmaninov: Pianokonsertto nr 2\nJean Sibelius: Sinfonia nr 5 \n”Yksi elämäni suurista kokemuksista! Herrajumala sitä kauneutta”\, Sibelius kirjoitti\, kun näki tyynen veden pinnalta lentoon nousevia joutsenia ja kirjoitti päiväkirjaansa upean teeman\, joka päätyi viidennen sinfonian finaaliin. Rahmaninovin toinen pianokonsertto lukeutuu säveltäjänsä rakastetuimpiin teoksiin. \nLiput 119€ / lapset/opiskelijat 99€\nVIP -lippu 139€ \nJärj. Mikkelin Musiikkijuhlat\nLisätietoja: mikkelinmusiikkijuhlat.fi
URL:https://mikaeli.fi/event/mikkelin-musiikkijuhlat-joutsenten-siivilla/
CATEGORIES:Musiikki,Tapahtuma
END:VEVENT
END:VCALENDAR