BEGIN:VCALENDAR
VERSION:2.0
PRODID:-//Konsertti- ja kongressitalo Mikaeli - Suomen kiinnostavin tapahtumatalo - ECPv6.10.1.1//NONSGML v1.0//EN
CALSCALE:GREGORIAN
METHOD:PUBLISH
X-ORIGINAL-URL:https://mikaeli.fi
X-WR-CALDESC:Events for Konsertti- ja kongressitalo Mikaeli - Suomen kiinnostavin tapahtumatalo
REFRESH-INTERVAL;VALUE=DURATION:PT1H
X-Robots-Tag:noindex
X-PUBLISHED-TTL:PT1H
BEGIN:VTIMEZONE
TZID:Europe/Helsinki
BEGIN:DAYLIGHT
TZOFFSETFROM:+0200
TZOFFSETTO:+0300
TZNAME:EEST
DTSTART:20230326T010000
END:DAYLIGHT
BEGIN:STANDARD
TZOFFSETFROM:+0300
TZOFFSETTO:+0200
TZNAME:EET
DTSTART:20231029T010000
END:STANDARD
END:VTIMEZONE
BEGIN:VEVENT
DTSTART;TZID=Europe/Helsinki:20230901T190000
DTEND;TZID=Europe/Helsinki:20230901T190000
DTSTAMP:20260419T163041
CREATED:20230612T112524Z
LAST-MODIFIED:20230825T120104Z
UID:3395-1693594800-1693594800@mikaeli.fi
SUMMARY:Mikkelin kaupunginorkesteri: JUHLAKONSERTTI – 120 vuotta rakkaudesta musiikkiin
DESCRIPTION:Erkki Lasonpalo\, kapellimestari\nPetri Kumela\, kitara\nTimo Riihonen\, laulu \nOttorino Respighi: Antiikin aarioita ja tansseja\, sarja nro 3\nMauro Giuliani: Kitarakonsertto nro 1 A-duuri\, op.30\nKalervo Tuukkanen: Romanttisia tuokioita jousille op. 8\nJohannes Brahms: Neljä vakavaa laulua\, op. 121\nEduard Kolmanovski: Rakastan elämää\nRodolfo Falvo: Kertokaa se hänelle\nJean-Philippe Rameau: Les sauvages & Forêts paisibles oopperasta Les Indes galantes \nJuhlaluento klo 17.15\, Mikaeli.\nJuhlaluennolla Jutta Julkunen esittelee orkesterin historiaa 120 vuoden ajalta. Luennon alkajaisiksi kuullaan Mikkelin musiikkiopiston musiikillinen tervehdys. \nMikkelin kaupunginorkesterin syyskausi alkaa juhlallisesti\, kun Mikkelin musiikinystävät ry täyttää upeat 120 vuotta. Juhlan kunniaksi orkesterin vieraaksi saapuvat mikkeliläislähtöiset huippumuusikot\, kitaristi Petri Kumela ja basso Timo Riihonen. \nItalialainen säveltäjä ja kitaristi Mauro Giuliani oli 1800-luvun alun johtava kitaravirtuoosi\, joka sävelsi soittimelleen lukuisan määrän teoksia ja vakiinnutti kitaran asemaa klassisen musiikin kentällä. Tunnetuimpia Giulianin sävellyksistä ovat hänen kolme kitarakonserttoaan\, joista tässä konsertissa kuullaan konsertto nro 1 A-duurissa\, jossa Petri Kumelan virtuositeetti pääsee oikeuksiinsa. \nBasso Timo Riihonen tulkitsee osia Johannes Brahmsin viimeisestä laulusarjasta Neljä vakavaa laulua\, jonka melankolinen tunnelma toimii vastapainona Giulianin kitarakonserton hyväntuuliselle klassismille. Lisäksi Riihonen esittää ikivihreät laulut Rakastan elämää ja Kertokaa se hänelle. \nPaikallisväriä edustaa myös Mikkelistä kotoisin olleen säveltäjä Kalervo Tuukkasen jousiorkesterisävellys Romanttisia tuokioita\, joka nimensä mukaisesti henkii tyylikästä romantiikkaa. Loistokasta on myös Ottorino Respighin Antiikin aarioita ja tansseja -sarjan sävelmaalailu. \nJuhlakonsertti huipentuu Jean-Philippe Rameaun leikittelevään sävelkieleen\, jossa solistit\, orkesteri ja Etelä-Savon tanssiopisto järjestävät yhdessä riemastuttavan loppunäytöksen juhlan kunniaksi. \nJuhlakonserttiin voit valita itsellesi sopivan lipunhinnan \nLIPUT: 10 € / 25 € / 30 €\nTapahtumasta ja sen lipunmyynnistä vastaa Mikkelin kaupunginorkesteri\, yhteystiedot täältä. \nJärjestäjä: Mikkelin kaupunginorkesteri \n 
URL:https://mikaeli.fi/event/mikkelin-kaupunginorkesteri-juhlakonsertti-120-vuotta-rakkaudesta-musiikkiin/
CATEGORIES:Musiikki,Tapahtuma
END:VEVENT
END:VCALENDAR